BEGIN:VCALENDAR
VERSION:2.0
PRODID:-//Barnstormer Winery - ECPv6.15.16//NONSGML v1.0//EN
CALSCALE:GREGORIAN
METHOD:PUBLISH
X-WR-CALNAME:Barnstormer Winery
X-ORIGINAL-URL:https://barnstormerwinery.com
X-WR-CALDESC:Events for Barnstormer Winery
REFRESH-INTERVAL;VALUE=DURATION:PT1H
X-Robots-Tag:noindex
X-PUBLISHED-TTL:PT1H
BEGIN:VTIMEZONE
TZID:America/New_York
BEGIN:DAYLIGHT
TZOFFSETFROM:-0500
TZOFFSETTO:-0400
TZNAME:EDT
DTSTART:20210314T070000
END:DAYLIGHT
BEGIN:STANDARD
TZOFFSETFROM:-0400
TZOFFSETTO:-0500
TZNAME:EST
DTSTART:20211107T060000
END:STANDARD
BEGIN:DAYLIGHT
TZOFFSETFROM:-0500
TZOFFSETTO:-0400
TZNAME:EDT
DTSTART:20220313T070000
END:DAYLIGHT
BEGIN:STANDARD
TZOFFSETFROM:-0400
TZOFFSETTO:-0500
TZNAME:EST
DTSTART:20221106T060000
END:STANDARD
BEGIN:DAYLIGHT
TZOFFSETFROM:-0500
TZOFFSETTO:-0400
TZNAME:EDT
DTSTART:20230312T070000
END:DAYLIGHT
BEGIN:STANDARD
TZOFFSETFROM:-0400
TZOFFSETTO:-0500
TZNAME:EST
DTSTART:20231105T060000
END:STANDARD
END:VTIMEZONE
BEGIN:VEVENT
DTSTART;TZID=America/New_York:20220311T170000
DTEND;TZID=America/New_York:20220311T193000
DTSTAMP:20260421T085031
CREATED:20211028T180320Z
LAST-MODIFIED:20220304T161650Z
UID:10000121-1647018000-1647027000@barnstormerwinery.com
SUMMARY:Winter Happy Hour Series
DESCRIPTION:Join us at Barnstormer this winter on Friday’s throughout February and March from 5PM – 730PM for happy hour\, all original live music and local caterer pop-ups each week from Dean Lane Catering in February & March.\n\nNo Cover and Family Friendly! Seating (50 in total) is based on reservations with standing room available as well.\n\nLocal musicians performing all original music! The full lineup will be updated soon. We will have the fireplace going to stave off the winter chill as well!\n\nFeb 4th: Rachel Beverly\nFeb 11th: Scott Adams\nFeb 18th: Matt Venuti\nFeb 25th: Liam Alone\nMarch 4th: Louiston\nMarch 11th: Briana Horton\nMarch 18th: Kipani\nMarch 25th: Rena Guinn\n\nSupport Dean Lane Catering and order a variety of tapas for dinner (rotating menu each week) while enjoying some Barnstormer wines\, local craft beer (Lucky Hare\, Two Goats & Seneca Lake Brewing) and craft cocktails.\n\n\nDean Lane Catering Menu for 3/4 Happy Hour! \n  \n\n\n\nShrimp Dumplings (4) $8\n\nPan-fried\, sesame soy dipping sauce\, cucumber salad \n\nVietnamese Pho $11\n\nBeef Bone Broth with Shaved Brisket\, bean sprouts\, baby bok choy\, rice noodles\, cilantro\, and lime \nAdd fresh chilies and/or poached egg                                         +$2 \nAdd shrimp                                                                                       +$3 \n  \n\nVegetarian Pho $11\n\nVegetarian Broth with bean sprouts\, baby bok choy\, rice noodles\, cilantro\, and lime \nAdd fresh chilies and/or poached egg                                         +$2 \nAdd shrimp                                                                                       +$3 \n  \n\nOolong Tea Marinated Salmon $15\n\nBaby Bok Choy\, Lo Mein Noodles \n  \n\nCantonese Duck Bao                     $13\n\nSteamed buns (3) filled with Duck\, hoisin BBQ\, scallions- side of cucumber salad \n  \n\nShrimp Bao $13\n\nSteamed buns (3) filled with Shrimp\, Napa cabbage\, sweet Thai chili sauce – side of cucumber salad \n  \n\nPulled Pork Bao $13\n\nSteamed buns (3) filled with BBQ pork\, coleslaw\, bread and butter pickles- side of cucumber salad \n  \n\nNY Style Cheesecake $6\n\nThai basil marinated berries\, fresh whipped cream\n\n\nDon’t miss it!\n\nFor larger groups\, please make your reservation by calling the winery @ 607-243-4008 or e-mail reservations@barnstormerwinery.com. We may need to cancel if there is inclement weather.\n\nWe hope to see you during the snowy season!
URL:https://barnstormerwinery.com/event/winter-happy-hour-series-6/
LOCATION:Barnstormer Winery\, 4184 New York 14\, Rock Stream\, NY\, 14878\, United States
CATEGORIES:Free Events at Barnstormer
ATTACH;FMTTYPE=image/jpeg:https://barnstormerwinery.com/wp-content/uploads/2020/07/DSC00041-scaled.jpg
END:VEVENT
END:VCALENDAR