BEGIN:VCALENDAR
VERSION:2.0
PRODID:-//Barnstormer Winery - ECPv6.15.16//NONSGML v1.0//EN
CALSCALE:GREGORIAN
METHOD:PUBLISH
X-WR-CALNAME:Barnstormer Winery
X-ORIGINAL-URL:https://barnstormerwinery.com
X-WR-CALDESC:Events for Barnstormer Winery
REFRESH-INTERVAL;VALUE=DURATION:PT1H
X-Robots-Tag:noindex
X-PUBLISHED-TTL:PT1H
BEGIN:VTIMEZONE
TZID:America/New_York
BEGIN:DAYLIGHT
TZOFFSETFROM:-0500
TZOFFSETTO:-0400
TZNAME:EDT
DTSTART:20210314T070000
END:DAYLIGHT
BEGIN:STANDARD
TZOFFSETFROM:-0400
TZOFFSETTO:-0500
TZNAME:EST
DTSTART:20211107T060000
END:STANDARD
BEGIN:DAYLIGHT
TZOFFSETFROM:-0500
TZOFFSETTO:-0400
TZNAME:EDT
DTSTART:20220313T070000
END:DAYLIGHT
BEGIN:STANDARD
TZOFFSETFROM:-0400
TZOFFSETTO:-0500
TZNAME:EST
DTSTART:20221106T060000
END:STANDARD
BEGIN:DAYLIGHT
TZOFFSETFROM:-0500
TZOFFSETTO:-0400
TZNAME:EDT
DTSTART:20230312T070000
END:DAYLIGHT
BEGIN:STANDARD
TZOFFSETFROM:-0400
TZOFFSETTO:-0500
TZNAME:EST
DTSTART:20231105T060000
END:STANDARD
END:VTIMEZONE
BEGIN:VEVENT
DTSTART;TZID=America/New_York:20220724T110000
DTEND;TZID=America/New_York:20220724T130000
DTSTAMP:20260420T042711
CREATED:20220621T140358Z
LAST-MODIFIED:20220621T140607Z
UID:10000141-1658660400-1658667600@barnstormerwinery.com
SUMMARY:VIP Vineyard / Cellar Tour & Tasting
DESCRIPTION:Join us on select Sunday’s throughout the summertime for a 2 hour experience with the owner or winemaker touring the vineyards\, wine production cellar\, tasting a selection of 10-12 Barnstormer wines (including reserves!) along with a local spread of cheese\, charcuterie\, pickled goods\, crackers\, etc (think of it like a classic Finger Lakes brunch spread). To keep these tours informative and personal\, we are capping each tour to 6 guests. $59/pp covers the entire experience! These highly educational experiences will leave you with a deeper understanding and appreciation of wine. Tickets can be purchased below. If you’d like to purchase all 6 tickets for a private group\, you are welcome to do so. Otherwise\, these may be semi-private if other guests join. 21+ only. \nWant to request a VIP tour on another day to start at 11AM? Please e-mail admin@barnstormerwinery.com (we do not run tours on Saturdays). \nThese popular events were put on pause during the past two years! We are excited to announce they are back. \n11AM start time\, finishing up around 1PM-1:15PM. Please arrive a few minutes early.
URL:https://barnstormerwinery.com/event/vip-vineyard-cellar-tour-tasting/
LOCATION:Barnstormer Winery\, 4184 New York 14\, Rock Stream\, NY\, 14878\, United States
CATEGORIES:Ticketed Events at Barnstormer
ATTACH;FMTTYPE=image/jpeg:https://barnstormerwinery.com/wp-content/uploads/2022/06/DBP01309-scaled.jpg
END:VEVENT
BEGIN:VEVENT
DTSTART;TZID=America/New_York:20220724T120000
DTEND;TZID=America/New_York:20220724T160000
DTSTAMP:20260420T042711
CREATED:20220721T163542Z
LAST-MODIFIED:20220721T174103Z
UID:10000153-1658664000-1658678400@barnstormerwinery.com
SUMMARY:Betsy Kent Local Artist Series
DESCRIPTION:Join us for our annual local artist pop-up series at Barnstormer Winery and enjoy a glass of wine (or two!). \nBetsy Kent\, featuring in Finger Lakes water color paintings\, will be joining us  inside from 12pm – 4pm on Sunday July 24th. Family friendly\, free to attend\, no RSVPs needed unless you plan to wine taste. Wine by the glass for purchase throughout the event!
URL:https://barnstormerwinery.com/event/betsy-kent-local-artist-series/
LOCATION:Barnstormer Winery\, 4184 New York 14\, Rock Stream\, NY\, 14878\, United States
CATEGORIES:Free Events at Barnstormer
ATTACH;FMTTYPE=image/jpeg:https://barnstormerwinery.com/wp-content/uploads/2022/07/236851936_991195095065632_3065666036462160938_n.jpg
END:VEVENT
END:VCALENDAR