BEGIN:VCALENDAR
VERSION:2.0
PRODID:-//Barnstormer Winery - ECPv6.15.16//NONSGML v1.0//EN
CALSCALE:GREGORIAN
METHOD:PUBLISH
X-WR-CALNAME:Barnstormer Winery
X-ORIGINAL-URL:https://barnstormerwinery.com
X-WR-CALDESC:Events for Barnstormer Winery
REFRESH-INTERVAL;VALUE=DURATION:PT1H
X-Robots-Tag:noindex
X-PUBLISHED-TTL:PT1H
BEGIN:VTIMEZONE
TZID:America/New_York
BEGIN:DAYLIGHT
TZOFFSETFROM:-0500
TZOFFSETTO:-0400
TZNAME:EDT
DTSTART:20210314T070000
END:DAYLIGHT
BEGIN:STANDARD
TZOFFSETFROM:-0400
TZOFFSETTO:-0500
TZNAME:EST
DTSTART:20211107T060000
END:STANDARD
BEGIN:DAYLIGHT
TZOFFSETFROM:-0500
TZOFFSETTO:-0400
TZNAME:EDT
DTSTART:20220313T070000
END:DAYLIGHT
BEGIN:STANDARD
TZOFFSETFROM:-0400
TZOFFSETTO:-0500
TZNAME:EST
DTSTART:20221106T060000
END:STANDARD
BEGIN:DAYLIGHT
TZOFFSETFROM:-0500
TZOFFSETTO:-0400
TZNAME:EDT
DTSTART:20230312T070000
END:DAYLIGHT
BEGIN:STANDARD
TZOFFSETFROM:-0400
TZOFFSETTO:-0500
TZNAME:EST
DTSTART:20231105T060000
END:STANDARD
END:VTIMEZONE
BEGIN:VEVENT
DTSTART;TZID=America/New_York:20220823T170000
DTEND;TZID=America/New_York:20220823T200000
DTSTAMP:20260420T162150
CREATED:20220407T172217Z
LAST-MODIFIED:20220821T193740Z
UID:10000235-1661274000-1661284800@barnstormerwinery.com
SUMMARY:Summer Happy Hour & Live Music Series
DESCRIPTION:Join us at Barnstormer on Tuesday’s throughout the summer from 5PM – 8PM for happy hour\, all original live music and rotating tapas/bistro style pop-up menus each week from the amazing culinary team @ DEAN LANE CATERING!\n\nNo Cover and Family Friendly! Cabana rentals (3 in total) are available for larger groups of 6 or more\, with a $25 deposit in advance. We will light up the fire pits on nicer evenings. Since these are typically outdoor events\, no reservations are needed\, except for larger groups of 6 or more.\n\nLocal musicians performing all original music! These events will happen\, rain or shine. Bring your own lawn chairs and/or picnic blankets. We do have picnic blankets for sale at the winery for $25.\n\nJune 7th: Tim Braley\nJune 14th: Rena Guinn\nJune 21st: Marye Lobb\nJune 28th: Dennis Winge\nJuly 5th: Simon & Longwell (duo)\nJuly 12th: Evan Dillon\nJuly 19th: Laura Thurston\nJuly 26th: Briana Horton\nAugust 2nd: Adam Guinn\nAugust 9th: Rachel Beverly\nAugust 16th: Jacob Shipley\nAugust 23rd: TBD\nAugust 30th: Louiston\nSeptember 6th: TBD (9 year anniversary) 4PM – 10PM\n\n\nSupport Dean Lane Catering and order a variety of tapas for dinner (rotating menu each week) while enjoying some Barnstormer wines\, local craft beer (Lucky Hare & Seneca Lake Brewing) and craft cocktails. Dinner menus will be updated the week of\, ensuring a fresh\, seasonal rotation week after week.\n\n\nRice Bowls \n Served over steamed white rice with grilled veggies and choice of: \n  \nSliced Filet Mignon– red wine demi-glace                                 $18 \n\nGrilled Shrimp– sesame soy sauce                                              $16 \n\nGrilled Chicken – bang bang sauce                                              $15 \n\nBBQ Pulled Pork– creamy coleslaw                                             $15 \n\nBaby Bok Choy – sesame soy dipping sauce                             $14 \n\n\n\nDon’t miss it!\n\nFor larger groups\, please make your reservation by calling the winery @ 607-243-4008 or e-mail reservations@barnstormerwinery.com. If we need to host any of these evenings indoors\, seating will be first come first serve\, with standing room available for later walk-ins.\n\nWe hope to see you during these upcoming summer months!
URL:https://barnstormerwinery.com/event/summer-happy-hour-live-music-series-12/
LOCATION:Barnstormer Winery\, 4184 New York 14\, Rock Stream\, NY\, 14878\, United States
CATEGORIES:Free Events at Barnstormer
ATTACH;FMTTYPE=image/jpeg:https://barnstormerwinery.com/wp-content/uploads/2022/01/IMG_3663.jpg
END:VEVENT
END:VCALENDAR