BEGIN:VCALENDAR
VERSION:2.0
PRODID:-//Barnstormer Winery - ECPv6.15.16//NONSGML v1.0//EN
CALSCALE:GREGORIAN
METHOD:PUBLISH
X-WR-CALNAME:Barnstormer Winery
X-ORIGINAL-URL:https://barnstormerwinery.com
X-WR-CALDESC:Events for Barnstormer Winery
REFRESH-INTERVAL;VALUE=DURATION:PT1H
X-Robots-Tag:noindex
X-PUBLISHED-TTL:PT1H
BEGIN:VTIMEZONE
TZID:America/New_York
BEGIN:DAYLIGHT
TZOFFSETFROM:-0500
TZOFFSETTO:-0400
TZNAME:EDT
DTSTART:20220313T070000
END:DAYLIGHT
BEGIN:STANDARD
TZOFFSETFROM:-0400
TZOFFSETTO:-0500
TZNAME:EST
DTSTART:20221106T060000
END:STANDARD
BEGIN:DAYLIGHT
TZOFFSETFROM:-0500
TZOFFSETTO:-0400
TZNAME:EDT
DTSTART:20230312T070000
END:DAYLIGHT
BEGIN:STANDARD
TZOFFSETFROM:-0400
TZOFFSETTO:-0500
TZNAME:EST
DTSTART:20231105T060000
END:STANDARD
BEGIN:DAYLIGHT
TZOFFSETFROM:-0500
TZOFFSETTO:-0400
TZNAME:EDT
DTSTART:20240310T070000
END:DAYLIGHT
BEGIN:STANDARD
TZOFFSETFROM:-0400
TZOFFSETTO:-0500
TZNAME:EST
DTSTART:20241103T060000
END:STANDARD
END:VTIMEZONE
BEGIN:VEVENT
DTSTART;TZID=America/New_York:20230718T170000
DTEND;TZID=America/New_York:20230718T200000
DTSTAMP:20260422T205614
CREATED:20230426T144028Z
LAST-MODIFIED:20230717T155450Z
UID:10000277-1689699600-1689710400@barnstormerwinery.com
SUMMARY:Summer Happy Hour\, Live Music & Caterer Series!
DESCRIPTION:Join us at Barnstormer Winery this summer on Tuesday evenings from 5pm – 8pm\, for our ninth annual Happy Hour\, Live Music & Caterer series! Running June\, July\, August and briefly into September\, we feature musicians who write and perform all original music. Enjoy Barnstormer wine\, local beer and craft cocktails\, along with locally sourced & seasonally fresh pop-up catering menus each week by our good friends at DEAN LANE CATERING.\n\n\n\nAsian Style Menu 7.18.23 \n  \nAppetizers \nSeared Ahi Tuna $9 \nSashimi grade tuna\, napa cabbage slaw\, spicy sauce \nChinese BBQ Spare Ribs 4/$12 \nNapa Cabbage Slaw \nEdamame and Black Truffle Dumplings 5/$8 \nSweet Thai Chili Sauce \n  \nEntrees \nMongolian Beef $17 \nThinly Sliced Beef with Dark Sauce and Scallions\, Served over Fried Rice   \nGeneral Tso’s Chicken w Broccoli $16 \nSweet and Spicy\, Served over Fried Rice   \nHoney Chicken w Broccoli $16 \nSweet and Tangy\, Served over Fried Rice    \nKung Pao Shrimp $17 \nPeanuts and Scallions\, Served over Fried Rice \nVeggie Lo Mein $15 \nSteamed Broccoli\, fresh veggies \n\n\nNo Cover and Family Friendly for our Tuesday Happy Hours! Seating is based on a first come first served basis\, with large group reservations being the exception if you have 8 or more and call in advance\, to reserve one of our three cabanas for your group to guarantee seatings.\nLocal musicians performing all original music!\n\nOur Flight Bar will be open on sunny summer days. Is there is rain on the forecast\, we will host these events indoors.\n\nJune 6th: Ryan Sutherland\nJune 13th: Mike Lucey\nJune 20th: River Lynch\nJune 27th: Charlie Reitz\nJuly 4th: Adam Guinn\nJuly 11th: Joe Kaplan\nJuly 18th: Freight\nJuly 25th: Scott Tremolo\nAugust 1st: Louiston\nAugust 8th: Rena Guinn\nAugust 15th: Jacob Shipley\nAugust 22nd: Joe Lule\nAugust 29th: Laura Thurston\nSeptember 5th: John Horne\n\nSeptember 10th (Sunday): 1PM – 10PM. Ten Year Anniversary Celebration! Dean Lane Catering from 1pm – 8pm. Rachel Beverly (130-330p)\, Joe Lule & Rena Guinn (4-630p)\, Cast Iron Cowboys (7-930p). Tickets available through our website events tab\, including VIP tickets.\nHTTPS://BARNSTORMERWINERY.COM/…/BARNSTORMER-10-YEAR…/\n\nParking fills up fast so try and carpool as well.\nDon’t miss it!\n\nHave a larger group (8 or more) and want to reserve one of our three cabanas? Please give us a call in advance at 607-243-4008. These events are typically held outside on the winery grounds and they will run rain or shine!\n\nFamily friendly. Dog friendly. Bring your picnic blankets and lawn chairs as well if you’d like!\n\nWe can’t wait to kick these off!
URL:https://barnstormerwinery.com/event/summer-happy-hour-live-music-caterer-series-6/
LOCATION:Barnstormer Winery\, 4184 New York 14\, Rock Stream\, NY\, 14878\, United States
CATEGORIES:Free Events at Barnstormer
ATTACH;FMTTYPE=image/jpeg:https://barnstormerwinery.com/wp-content/uploads/2023/04/Summer-Concert-Series-Flyer-Updated.jpg
END:VEVENT
END:VCALENDAR