BEGIN:VCALENDAR
VERSION:2.0
PRODID:-//Barnstormer Winery - ECPv6.15.16//NONSGML v1.0//EN
CALSCALE:GREGORIAN
METHOD:PUBLISH
X-WR-CALNAME:Barnstormer Winery
X-ORIGINAL-URL:https://barnstormerwinery.com
X-WR-CALDESC:Events for Barnstormer Winery
REFRESH-INTERVAL;VALUE=DURATION:PT1H
X-Robots-Tag:noindex
X-PUBLISHED-TTL:PT1H
BEGIN:VTIMEZONE
TZID:America/New_York
BEGIN:DAYLIGHT
TZOFFSETFROM:-0500
TZOFFSETTO:-0400
TZNAME:EDT
DTSTART:20220313T070000
END:DAYLIGHT
BEGIN:STANDARD
TZOFFSETFROM:-0400
TZOFFSETTO:-0500
TZNAME:EST
DTSTART:20221106T060000
END:STANDARD
BEGIN:DAYLIGHT
TZOFFSETFROM:-0500
TZOFFSETTO:-0400
TZNAME:EDT
DTSTART:20230312T070000
END:DAYLIGHT
BEGIN:STANDARD
TZOFFSETFROM:-0400
TZOFFSETTO:-0500
TZNAME:EST
DTSTART:20231105T060000
END:STANDARD
BEGIN:DAYLIGHT
TZOFFSETFROM:-0500
TZOFFSETTO:-0400
TZNAME:EDT
DTSTART:20240310T070000
END:DAYLIGHT
BEGIN:STANDARD
TZOFFSETFROM:-0400
TZOFFSETTO:-0500
TZNAME:EST
DTSTART:20241103T060000
END:STANDARD
END:VTIMEZONE
BEGIN:VEVENT
DTSTART;TZID=America/New_York:20230902T110000
DTEND;TZID=America/New_York:20230902T160000
DTSTAMP:20260422T141558
CREATED:20230605T171120Z
LAST-MODIFIED:20230819T142053Z
UID:10000293-1693652400-1693670400@barnstormerwinery.com
SUMMARY:Aviator's Wine Club Pickup Party - Clam Bake & Boil - September
DESCRIPTION:Attention all Aviator’s Wine Club Members! \nOur favorite pickup party of the year is fast approaching\, our annual Clam Bake & Boil. September 2nd from 11am – 4pm\, we will be featuring four of our favorite Barnstormer wines and offering a clam bake & boil for each member +1 guest\, at only $15/pp. Tickets available below for the boil! Additional guests can be brought in for the wine tasting & clam bake/boil experience for $27/pp. You will still receive a complimentary tapas pairing with your wine tastings! \nPlease RSVP by e-mailing Kelly the number of guests\, time you’d like to join us that day. You may also call the winery at 607-243-4008 during business hours or e-mail reservations@barnstormerwinery.com. Tickets available below for the boil or you may pay the day of! \nRemember\, we can also cellar your 4-pack releases for up to 1 full year. All AWC4\, AWC6 & AWC12 members are welcome! \nCheers!
URL:https://barnstormerwinery.com/event/aviators-wine-club-pickup-party-clam-bake-boil-september/
LOCATION:Barnstormer Winery\, 4184 New York 14\, Rock Stream\, NY\, 14878\, United States
CATEGORIES:Aviator's Wine Club Events
ATTACH;FMTTYPE=image/jpeg:https://barnstormerwinery.com/wp-content/uploads/2023/06/intro-1640799686.jpg
END:VEVENT
END:VCALENDAR