BEGIN:VCALENDAR
VERSION:2.0
PRODID:-//Barnstormer Winery - ECPv6.15.16//NONSGML v1.0//EN
CALSCALE:GREGORIAN
METHOD:PUBLISH
X-WR-CALNAME:Barnstormer Winery
X-ORIGINAL-URL:https://barnstormerwinery.com
X-WR-CALDESC:Events for Barnstormer Winery
REFRESH-INTERVAL;VALUE=DURATION:PT1H
X-Robots-Tag:noindex
X-PUBLISHED-TTL:PT1H
BEGIN:VTIMEZONE
TZID:America/New_York
BEGIN:DAYLIGHT
TZOFFSETFROM:-0500
TZOFFSETTO:-0400
TZNAME:EDT
DTSTART:20230312T070000
END:DAYLIGHT
BEGIN:STANDARD
TZOFFSETFROM:-0400
TZOFFSETTO:-0500
TZNAME:EST
DTSTART:20231105T060000
END:STANDARD
BEGIN:DAYLIGHT
TZOFFSETFROM:-0500
TZOFFSETTO:-0400
TZNAME:EDT
DTSTART:20240310T070000
END:DAYLIGHT
BEGIN:STANDARD
TZOFFSETFROM:-0400
TZOFFSETTO:-0500
TZNAME:EST
DTSTART:20241103T060000
END:STANDARD
BEGIN:DAYLIGHT
TZOFFSETFROM:-0500
TZOFFSETTO:-0400
TZNAME:EDT
DTSTART:20250309T070000
END:DAYLIGHT
BEGIN:STANDARD
TZOFFSETFROM:-0400
TZOFFSETTO:-0500
TZNAME:EST
DTSTART:20251102T060000
END:STANDARD
END:VTIMEZONE
BEGIN:VEVENT
DTSTART;TZID=America/New_York:20240204T110000
DTEND;TZID=America/New_York:20240204T123000
DTSTAMP:20260420T052118
CREATED:20231118T201547Z
LAST-MODIFIED:20231128T172103Z
UID:10000312-1707044400-1707049800@barnstormerwinery.com
SUMMARY:Winemaker Tasting Series
DESCRIPTION:Join us Sundays in February & March to taste through the best of Barnstormer with our Winemaker\, Taylor Stember. \n\n\n \n\n\nTaylor will lead you through a special tasting of 8 wines\, including limited release & reserve wines\, all by our cozy fireplace. \n\n\n \n\n\nEach ticket includes a cheese & charcuterie board & exclusive access to this limited experience of only 8 guests per tasting time. \n\n\n \n\n\nTwo seatings will take place at 11am & 2:30pm each Sunday. These tastings will last 1.5 hours.\n\n\n \n\n\n$45 per person / $35 for any tier of our wine club members from Aviator’s\, Frequent Flyer’s to High Flyer’s Wine Clubs.\n\n\n \n\n\nPurchase your ticket below to secure your spot in this limited tasting series! \n\nNo children or infants are permitted for this event. 21+ only. 
URL:https://barnstormerwinery.com/event/winemaker-tasting-series/
LOCATION:Barnstormer Winery\, 4184 New York 14\, Rock Stream\, NY\, 14878\, United States
CATEGORIES:Ticketed Events at Barnstormer
ATTACH;FMTTYPE=image/jpeg:https://barnstormerwinery.com/wp-content/uploads/2023/11/IMG_0041.jpg
END:VEVENT
BEGIN:VEVENT
DTSTART;TZID=America/New_York:20240204T143000
DTEND;TZID=America/New_York:20240204T160000
DTSTAMP:20260420T052118
CREATED:20231128T172543Z
LAST-MODIFIED:20231128T172631Z
UID:10000321-1707057000-1707062400@barnstormerwinery.com
SUMMARY:Winemaker Tasting Series
DESCRIPTION:Join us Sundays in February & March to taste through the best of Barnstormer with our Winemaker\, Taylor Stember. \n\n\n \n\n\nTaylor will lead you through a special tasting of 8 wines\, including limited release & reserve wines\, all by our cozy fireplace. \n\n\n \n\n\nEach ticket includes a cheese & charcuterie board & exclusive access to this limited experience of only 8 guests per tasting time. \n\n\n \n\n\nTwo seatings will take place at 11am & 2:30pm each Sunday. These tastings will last 1.5 hours.\n\n\n \n\n\n$45 per person / $35 for any tier of our wine club members from Aviator’s\, Frequent Flyer’s to High Flyer’s Wine Clubs.\n\n\n \n\n\nPurchase your ticket below to secure your spot in this limited tasting series! \n\nNo children or infants are permitted for this event. 21+ only. 
URL:https://barnstormerwinery.com/event/winemaker-tasting-series-9/
LOCATION:Barnstormer Winery\, 4184 New York 14\, Rock Stream\, NY\, 14878\, United States
CATEGORIES:Ticketed Events at Barnstormer
ATTACH;FMTTYPE=image/jpeg:https://barnstormerwinery.com/wp-content/uploads/2023/11/IMG_0041.jpg
END:VEVENT
BEGIN:VEVENT
DTSTART;TZID=America/New_York:20240204T170000
DTEND;TZID=America/New_York:20240204T190000
DTSTAMP:20260420T052118
CREATED:20230919T174412Z
LAST-MODIFIED:20230919T174412Z
UID:10000308-1707066000-1707073200@barnstormerwinery.com
SUMMARY:Bingo Night at Barnstormer!
DESCRIPTION:Spice up your winter weekend with Bingo at Barnstormer! \nEvery Sunday in February 5pm-7pm\, grab a glass\, a beer\, or a hot cup of our famous mulled wine & let our talented host lead you through an exciting evening of Bingo! \nOur bingo night offers a new vintage of the classic game: Different rounds of bingo with different rules to win\, your favorite music playlists\, fun pop up challenges\, games within the game\, we’ll have it all packed into one evening!  \nEveryone starts with a bingo card & additional cards can be obtained through additional glass purchases. \nPrizes given out to winners throughout the evening! \nFree to join! First come\, first served! \n*Bingo Night will not take place Sunday\, February 18th
URL:https://barnstormerwinery.com/event/bingo-night-at-barnstormer/
LOCATION:Barnstormer Winery\, 4184 New York 14\, Rock Stream\, NY\, 14878\, United States
CATEGORIES:Free Events at Barnstormer
ATTACH;FMTTYPE=image/png:https://barnstormerwinery.com/wp-content/uploads/2023/09/Bingo-Night-2024-e1705701441205.png
END:VEVENT
END:VCALENDAR