BEGIN:VCALENDAR
VERSION:2.0
PRODID:-//Barnstormer Winery - ECPv6.15.16//NONSGML v1.0//EN
CALSCALE:GREGORIAN
METHOD:PUBLISH
X-WR-CALNAME:Barnstormer Winery
X-ORIGINAL-URL:https://barnstormerwinery.com
X-WR-CALDESC:Events for Barnstormer Winery
REFRESH-INTERVAL;VALUE=DURATION:PT1H
X-Robots-Tag:noindex
X-PUBLISHED-TTL:PT1H
BEGIN:VTIMEZONE
TZID:America/New_York
BEGIN:DAYLIGHT
TZOFFSETFROM:-0500
TZOFFSETTO:-0400
TZNAME:EDT
DTSTART:20230312T070000
END:DAYLIGHT
BEGIN:STANDARD
TZOFFSETFROM:-0400
TZOFFSETTO:-0500
TZNAME:EST
DTSTART:20231105T060000
END:STANDARD
BEGIN:DAYLIGHT
TZOFFSETFROM:-0500
TZOFFSETTO:-0400
TZNAME:EDT
DTSTART:20240310T070000
END:DAYLIGHT
BEGIN:STANDARD
TZOFFSETFROM:-0400
TZOFFSETTO:-0500
TZNAME:EST
DTSTART:20241103T060000
END:STANDARD
BEGIN:DAYLIGHT
TZOFFSETFROM:-0500
TZOFFSETTO:-0400
TZNAME:EDT
DTSTART:20250309T070000
END:DAYLIGHT
BEGIN:STANDARD
TZOFFSETFROM:-0400
TZOFFSETTO:-0500
TZNAME:EST
DTSTART:20251102T060000
END:STANDARD
END:VTIMEZONE
BEGIN:VEVENT
DTSTART;TZID=America/New_York:20240303T110000
DTEND;TZID=America/New_York:20240303T123000
DTSTAMP:20260420T053736
CREATED:20231118T202834Z
LAST-MODIFIED:20231128T175416Z
UID:10000316-1709463600-1709469000@barnstormerwinery.com
SUMMARY:Winemaker Tasting Series
DESCRIPTION:Join us Sundays in February & March to taste through the best of Barnstormer with our Winemaker\, Taylor Stember. \n\n\n \n\n\nTaylor will lead you through a special tasting of 8 wines\, including limited release & reserve wines\, all by our cozy fireplace. \n\n\n \n\n\nEach ticket includes a cheese & charcuterie board & exclusive access to this limited experience of only 8 guests per tasting time. \n\n\n \n\n\nTwo seatings will take place at 11am & 2:30pm each Sunday. These tastings will last 1.5 hours.\n\n\n \n\n\n$45 per person / $35 for any tier of our wine club members from Aviator’s\, Frequent Flyer’s to High Flyer’s Wine Clubs.\n\n\n \n\n\nPurchase your ticket below to secure your spot in this limited tasting series! \n\nNo children or infants are permitted for this event. 21+ only. 
URL:https://barnstormerwinery.com/event/winemaker-tasting-series-4/
LOCATION:Barnstormer Winery\, 4184 New York 14\, Rock Stream\, NY\, 14878\, United States
CATEGORIES:Ticketed Events at Barnstormer
ATTACH;FMTTYPE=image/jpeg:https://barnstormerwinery.com/wp-content/uploads/2023/11/IMG_0041.jpg
END:VEVENT
BEGIN:VEVENT
DTSTART;TZID=America/New_York:20240303T143000
DTEND;TZID=America/New_York:20240303T160000
DTSTAMP:20260420T053736
CREATED:20231128T175621Z
LAST-MODIFIED:20231128T175621Z
UID:10000325-1709476200-1709481600@barnstormerwinery.com
SUMMARY:Winemaker Tasting Series
DESCRIPTION:Join us Sundays in February & March to taste through the best of Barnstormer with our Winemaker\, Taylor Stember. \n\n\n \n\n\nTaylor will lead you through a special tasting of 8 wines\, including limited release & reserve wines\, all by our cozy fireplace. \n\n\n \n\n\nEach ticket includes a cheese & charcuterie board & exclusive access to this limited experience of only 8 guests per tasting time. \n\n\n \n\n\nTwo seatings will take place at 11am & 2:30pm each Sunday. These tastings will last 1.5 hours.\n\n\n \n\n\n$45 per person / $35 for any tier of our wine club members from Aviator’s\, Frequent Flyer’s to High Flyer’s Wine Clubs.\n\n\n \n\n\nPurchase your ticket below to secure your spot in this limited tasting series! \n\nNo children or infants are permitted for this event. 21+ only. 
URL:https://barnstormerwinery.com/event/winemaker-tasting-series-13/
LOCATION:Barnstormer Winery\, 4184 New York 14\, Rock Stream\, NY\, 14878\, United States
CATEGORIES:Ticketed Events at Barnstormer
ATTACH;FMTTYPE=image/jpeg:https://barnstormerwinery.com/wp-content/uploads/2023/11/IMG_0041.jpg
END:VEVENT
BEGIN:VEVENT
DTSTART;TZID=America/New_York:20240303T170000
DTEND;TZID=America/New_York:20240303T190000
DTSTAMP:20260420T053736
CREATED:20240212T165907Z
LAST-MODIFIED:20240212T165907Z
UID:10000333-1709485200-1709492400@barnstormerwinery.com
SUMMARY:Bingo Night at Barnstormer!
DESCRIPTION:Spice up your winter weekend with Bingo at Barnstormer! \nEvery Sunday in March 5pm-7pm\, grab a glass\, a beer\, or a hot cup of our famous mulled wine & let our talented host lead you through an exciting evening of Bingo! \nOur bingo night offers a new vintage of the classic game: Different rounds of bingo with different rules to win\, your favorite music playlists\, fun pop up challenges\, games within the game\, we’ll have it all packed into one evening!  \nEveryone starts with a bingo card & additional cards can be obtained through additional glass purchases. \nPrizes given out to winners throughout the evening! \nFree to join! First come\, first served!
URL:https://barnstormerwinery.com/event/bingo-night-at-barnstormer-4/
LOCATION:Barnstormer Winery\, 4184 New York 14\, Rock Stream\, NY\, 14878\, United States
CATEGORIES:Free Events at Barnstormer
ATTACH;FMTTYPE=image/png:https://barnstormerwinery.com/wp-content/uploads/2023/09/Bingo-Night-2024-e1705701441205.png
END:VEVENT
END:VCALENDAR