BEGIN:VCALENDAR
VERSION:2.0
PRODID:-//Barnstormer Winery - ECPv6.15.16//NONSGML v1.0//EN
CALSCALE:GREGORIAN
METHOD:PUBLISH
X-ORIGINAL-URL:https://barnstormerwinery.com
X-WR-CALDESC:Events for Barnstormer Winery
REFRESH-INTERVAL;VALUE=DURATION:PT1H
X-Robots-Tag:noindex
X-PUBLISHED-TTL:PT1H
BEGIN:VTIMEZONE
TZID:America/New_York
BEGIN:DAYLIGHT
TZOFFSETFROM:-0500
TZOFFSETTO:-0400
TZNAME:EDT
DTSTART:20230312T070000
END:DAYLIGHT
BEGIN:STANDARD
TZOFFSETFROM:-0400
TZOFFSETTO:-0500
TZNAME:EST
DTSTART:20231105T060000
END:STANDARD
BEGIN:DAYLIGHT
TZOFFSETFROM:-0500
TZOFFSETTO:-0400
TZNAME:EDT
DTSTART:20240310T070000
END:DAYLIGHT
BEGIN:STANDARD
TZOFFSETFROM:-0400
TZOFFSETTO:-0500
TZNAME:EST
DTSTART:20241103T060000
END:STANDARD
BEGIN:DAYLIGHT
TZOFFSETFROM:-0500
TZOFFSETTO:-0400
TZNAME:EDT
DTSTART:20250309T070000
END:DAYLIGHT
BEGIN:STANDARD
TZOFFSETFROM:-0400
TZOFFSETTO:-0500
TZNAME:EST
DTSTART:20251102T060000
END:STANDARD
END:VTIMEZONE
BEGIN:VEVENT
DTSTART;TZID=America/New_York:20240721T113000
DTEND;TZID=America/New_York:20240721T143000
DTSTAMP:20260420T132913
CREATED:20240521T170130Z
LAST-MODIFIED:20240719T163156Z
UID:10000367-1721561400-1721572200@barnstormerwinery.com
SUMMARY:Sunday Brunch Boards & Live Music
DESCRIPTION:Sunday Brunch Boards & Live Music at Barnstormer Winery!\n\nJoin us every Sunday for our first annual casual Brunch & Music Series\, starting July 7th through August 25th from 11:30am-2:00pm at our Hanger Bar & Outdoor Pavilion. We will be rotating the brunch board menu weekly\, featuring seasonal/fresh ingredients. Wines by the glass\, mimosas\, local craft beer & non-alcoholic options will be available!\n\nOur Brunch Series features live music (no cover!)\, is family & dog friendly\, & takes place rain or shine. We’ll provide casual seating at our Hanger Bar Pavilion & Outdoor Kitchen with rotating seasonal culinary menus in collaboration with Dean Lane Dining. Vegan options will also be available. Brunch is first come first serve until we sell out of our weekly brunch boards\, and one brunch board is meant to be shared between two guests.\n\nAll seating is first come\, first serve\, but groups over 6 are encouraged to RSVP.\n\nCome for brunch & music\, but stay for wines by the glass\, local craft beer\, & our signature mimosas!
URL:https://barnstormerwinery.com/event/sunday-brunch-boards-live-music-3/
LOCATION:Barnstormer Winery\, 4184 New York 14\, Rock Stream\, NY\, 14878\, United States
CATEGORIES:Free Events at Barnstormer
ATTACH;FMTTYPE=image/png:https://barnstormerwinery.com/wp-content/uploads/2024/05/Brunch-Series-Flyer-2.png
END:VEVENT
END:VCALENDAR