BEGIN:VCALENDAR
VERSION:2.0
PRODID:-//Barnstormer Winery - ECPv6.15.16//NONSGML v1.0//EN
CALSCALE:GREGORIAN
METHOD:PUBLISH
X-ORIGINAL-URL:https://barnstormerwinery.com
X-WR-CALDESC:Events for Barnstormer Winery
REFRESH-INTERVAL;VALUE=DURATION:PT1H
X-Robots-Tag:noindex
X-PUBLISHED-TTL:PT1H
BEGIN:VTIMEZONE
TZID:America/New_York
BEGIN:DAYLIGHT
TZOFFSETFROM:-0500
TZOFFSETTO:-0400
TZNAME:EDT
DTSTART:20230312T070000
END:DAYLIGHT
BEGIN:STANDARD
TZOFFSETFROM:-0400
TZOFFSETTO:-0500
TZNAME:EST
DTSTART:20231105T060000
END:STANDARD
BEGIN:DAYLIGHT
TZOFFSETFROM:-0500
TZOFFSETTO:-0400
TZNAME:EDT
DTSTART:20240310T070000
END:DAYLIGHT
BEGIN:STANDARD
TZOFFSETFROM:-0400
TZOFFSETTO:-0500
TZNAME:EST
DTSTART:20241103T060000
END:STANDARD
BEGIN:DAYLIGHT
TZOFFSETFROM:-0500
TZOFFSETTO:-0400
TZNAME:EDT
DTSTART:20250309T070000
END:DAYLIGHT
BEGIN:STANDARD
TZOFFSETFROM:-0400
TZOFFSETTO:-0500
TZNAME:EST
DTSTART:20251102T060000
END:STANDARD
END:VTIMEZONE
BEGIN:VEVENT
DTSTART;TZID=America/New_York:20240726T110000
DTEND;TZID=America/New_York:20240728T170000
DTSTAMP:20260420T132917
CREATED:20240226T192502Z
LAST-MODIFIED:20240226T192502Z
UID:10000340-1721991600-1722186000@barnstormerwinery.com
SUMMARY:Finger Lakes Wine Festival July 26-28 2024
DESCRIPTION:After a hands on experience at Barnstormer Winery\, why not head into town just a few minutes up the road for the Finger Lakes Wine Festival to try our friends in the FLX wine community? Buy your tickets now to see us and the incredible wineries pour in Watkins Glen at the Finger Lakes Wine Festival! \nExperience the event that readers of USA Today have voted the country’s “Best Wine Festival”. Sample 90+ New York State wineries and artisan food vendors\, explore educational wine seminars\, and enjoy pace car rides around the 3.45-mile race course\, live music and more! The best part? It’s all in the heart of New York’s famous Finger Lakes Wine Country. \nA One-Day or Two-Day weekend Taster Wristband gives you admittance to the Watkins Glen International facility grounds and the Finger Lakes Wine Festival. \nIncludes: \n\nOne (1) commemorative Finger Lakes Wine Festival glass\nTastings at 90+ wineries in climate-controlled tents\nDiverse range of food vendors and unique craft and art purveyors\nLive music performances and outdoor demonstrations\n\nhttps://www.flwinefest.com/
URL:https://barnstormerwinery.com/event/finger-lakes-wine-festival-july-26-28-2024/
LOCATION:NY
CATEGORIES:Events in FLX
ATTACH;FMTTYPE=image/png:https://barnstormerwinery.com/wp-content/uploads/2024/02/Screenshot-2024-02-26-at-2.23.48 PM.png
END:VEVENT
END:VCALENDAR