BEGIN:VCALENDAR
VERSION:2.0
PRODID:-//Barnstormer Winery - ECPv6.15.16//NONSGML v1.0//EN
CALSCALE:GREGORIAN
METHOD:PUBLISH
X-ORIGINAL-URL:https://barnstormerwinery.com
X-WR-CALDESC:Events for Barnstormer Winery
REFRESH-INTERVAL;VALUE=DURATION:PT1H
X-Robots-Tag:noindex
X-PUBLISHED-TTL:PT1H
BEGIN:VTIMEZONE
TZID:America/New_York
BEGIN:DAYLIGHT
TZOFFSETFROM:-0500
TZOFFSETTO:-0400
TZNAME:EDT
DTSTART:20240310T070000
END:DAYLIGHT
BEGIN:STANDARD
TZOFFSETFROM:-0400
TZOFFSETTO:-0500
TZNAME:EST
DTSTART:20241103T060000
END:STANDARD
BEGIN:DAYLIGHT
TZOFFSETFROM:-0500
TZOFFSETTO:-0400
TZNAME:EDT
DTSTART:20250309T070000
END:DAYLIGHT
BEGIN:STANDARD
TZOFFSETFROM:-0400
TZOFFSETTO:-0500
TZNAME:EST
DTSTART:20251102T060000
END:STANDARD
BEGIN:DAYLIGHT
TZOFFSETFROM:-0500
TZOFFSETTO:-0400
TZNAME:EDT
DTSTART:20260308T070000
END:DAYLIGHT
BEGIN:STANDARD
TZOFFSETFROM:-0400
TZOFFSETTO:-0500
TZNAME:EST
DTSTART:20261101T060000
END:STANDARD
END:VTIMEZONE
BEGIN:VEVENT
DTSTART;TZID=America/New_York:20250708T170000
DTEND;TZID=America/New_York:20250708T200000
DTSTAMP:20260422T183603
CREATED:20250414T182911Z
LAST-MODIFIED:20250414T184224Z
UID:10000407-1751994000-1752004800@barnstormerwinery.com
SUMMARY:Summer Happy Hour & Live Music Series
DESCRIPTION:Barnstormer’s annual Summer Happy Hour & Live Music Series is back! \nJoin us every Tuesday\, June through August\, from 5pm-8pm at our outdoor Hangar Bar to enjoy a special happy hour menu featuring Barnstormer wine\, local craft beer\, and a craft cocktail while enjoying incredibly talented local musicians! \nFEATURING \n\nAll Original Live Music\nBarnstormer Wine\, Craft Beer\, & Signature Cocktails\nWeekly culinary pop ups\nNo cover! No reservation required!\n\nHappens rain or shine! In the event of poor weather\, we’ll move inside our tasting room. \nFamily Friendly & pups welcome! Seating is based on a first come first served basis.  \nFollow us on Facebook for food menu & weather updates. \n  \nLocal musicians performing all original music! \nTuesday\, June 3rd –  Louis DiPietro \nTuesday\, June 10th-  River Lynch \nTuesday\, June 17th-  Marye Lobb \nTuesday\, June 24th-  Cooper Scotti \nTuesday\, July 1st-  Ed Swaster  \nTuesday\, July 8th-  Josh Chamberlain \nTuesday\, July 15th-  Scott Adams  \nTuesday\, July 22nd-  River Lynch \nTuesday\, July 29th-  Meg Williams \nTuesday\, August 5th-  The Bard Brothers \nTuesday\, August 12th-  Jacob Shipley \nTuesday\, August 19th-  Ryan Sutherland \nTuesday\, August 26th-  Joe & Rena
URL:https://barnstormerwinery.com/event/summer-happy-hour-live-music-series-16/
LOCATION:Barnstormer Winery\, 4184 New York 14\, Rock Stream\, NY\, 14878\, United States
CATEGORIES:Events in FLX,Free Events at Barnstormer
ATTACH;FMTTYPE=image/png:https://barnstormerwinery.com/wp-content/uploads/2025/04/Summer-Series-Poster-Draft-3-3.png
END:VEVENT
END:VCALENDAR