BEGIN:VCALENDAR
VERSION:2.0
PRODID:-//Barnstormer Winery - ECPv6.15.16//NONSGML v1.0//EN
CALSCALE:GREGORIAN
METHOD:PUBLISH
X-WR-CALNAME:Barnstormer Winery
X-ORIGINAL-URL:https://barnstormerwinery.com
X-WR-CALDESC:Events for Barnstormer Winery
REFRESH-INTERVAL;VALUE=DURATION:PT1H
X-Robots-Tag:noindex
X-PUBLISHED-TTL:PT1H
BEGIN:VTIMEZONE
TZID:America/New_York
BEGIN:DAYLIGHT
TZOFFSETFROM:-0500
TZOFFSETTO:-0400
TZNAME:EDT
DTSTART:20240310T070000
END:DAYLIGHT
BEGIN:STANDARD
TZOFFSETFROM:-0400
TZOFFSETTO:-0500
TZNAME:EST
DTSTART:20241103T060000
END:STANDARD
BEGIN:DAYLIGHT
TZOFFSETFROM:-0500
TZOFFSETTO:-0400
TZNAME:EDT
DTSTART:20250309T070000
END:DAYLIGHT
BEGIN:STANDARD
TZOFFSETFROM:-0400
TZOFFSETTO:-0500
TZNAME:EST
DTSTART:20251102T060000
END:STANDARD
BEGIN:DAYLIGHT
TZOFFSETFROM:-0500
TZOFFSETTO:-0400
TZNAME:EDT
DTSTART:20260308T070000
END:DAYLIGHT
BEGIN:STANDARD
TZOFFSETFROM:-0400
TZOFFSETTO:-0500
TZNAME:EST
DTSTART:20261101T060000
END:STANDARD
END:VTIMEZONE
BEGIN:VEVENT
DTSTART;TZID=America/New_York:20250906T110000
DTEND;TZID=America/New_York:20250906T150000
DTSTAMP:20260422T115247
CREATED:20250606T104536Z
LAST-MODIFIED:20250717T173046Z
UID:10000415-1757156400-1757170800@barnstormerwinery.com
SUMMARY:Aviator's Wine Club September Clam Boil & Pickup Party!
DESCRIPTION:Attention all Aviator’s Wine Club Members! \nOur September 2025 pickup party is fast approaching! Saturday\, September 6th from 11am – 3pm\, we will be featuring four of our favorite Barnstormer wines (plus some bonus pours!) and offering our famous summer clam boil (complimentary)\, for each member +1 guest. Yum! Additional guests can be brought in for the wine tasting & culinary pairing experience for $27/pp. Our farmed & foraged pairing board will be the vegetarian option. \nPlease RSVP by e-mailing our Club Manager (Kelly) the number of guests\, time you’d like to join us that day. You may also call the winery at 607-243-4008 during business hours or e-mail reservations@barnstormerwinery.com. Reservations required in advance for our preparation. \nRemember\, we can also cellar your 4\, 6 or 12-pack releases for up to 1 full year. All AWC4\, AWC6 & AWC12 members are welcome! All wine club members will receive 50% off our farmed & foraged pairing boards during their winery visits as well. \nCan’t join us as a ship member? We are extending $15 flat rate shipping across all wine clubs moving forward as a new perk! \nCheers!
URL:https://barnstormerwinery.com/event/aviators-wine-club-september-clam-boil-pickup-party/
LOCATION:NY
CATEGORIES:Aviator's Wine Club Events
ATTACH;FMTTYPE=image/jpeg:https://barnstormerwinery.com/wp-content/uploads/2025/06/l-intro-1640799686.jpg
END:VEVENT
END:VCALENDAR