BEGIN:VCALENDAR
VERSION:2.0
PRODID:-//Barnstormer Winery - ECPv6.15.16//NONSGML v1.0//EN
CALSCALE:GREGORIAN
METHOD:PUBLISH
X-ORIGINAL-URL:https://barnstormerwinery.com
X-WR-CALDESC:Events for Barnstormer Winery
REFRESH-INTERVAL;VALUE=DURATION:PT1H
X-Robots-Tag:noindex
X-PUBLISHED-TTL:PT1H
BEGIN:VTIMEZONE
TZID:America/New_York
BEGIN:DAYLIGHT
TZOFFSETFROM:-0500
TZOFFSETTO:-0400
TZNAME:EDT
DTSTART:20250309T070000
END:DAYLIGHT
BEGIN:STANDARD
TZOFFSETFROM:-0400
TZOFFSETTO:-0500
TZNAME:EST
DTSTART:20251102T060000
END:STANDARD
BEGIN:DAYLIGHT
TZOFFSETFROM:-0500
TZOFFSETTO:-0400
TZNAME:EDT
DTSTART:20260308T070000
END:DAYLIGHT
BEGIN:STANDARD
TZOFFSETFROM:-0400
TZOFFSETTO:-0500
TZNAME:EST
DTSTART:20261101T060000
END:STANDARD
BEGIN:DAYLIGHT
TZOFFSETFROM:-0500
TZOFFSETTO:-0400
TZNAME:EDT
DTSTART:20270314T070000
END:DAYLIGHT
BEGIN:STANDARD
TZOFFSETFROM:-0400
TZOFFSETTO:-0500
TZNAME:EST
DTSTART:20271107T060000
END:STANDARD
END:VTIMEZONE
BEGIN:VEVENT
DTSTART;TZID=America/New_York:20260403T160000
DTEND;TZID=America/New_York:20260403T190000
DTSTAMP:20260420T051724
CREATED:20251104T185840Z
LAST-MODIFIED:20251104T185840Z
UID:10000425-1775232000-1775242800@barnstormerwinery.com
SUMMARY:Winter/Spring Happy Hour & Live Music Series
DESCRIPTION:Join us every Friday from 4pm-7pm every Friday February through April for our annual Winter and Spring Happy Hour and Live Music Series!  \nFEATURING \n\nAll Original Live Music from Local Talent\nBarnstormer Wine\, Craft Beer\, & Signature Cocktail\nGood Vibes & Cozy Fireplace\nCasual Spanish-inspired tapas menu\, featuring locally sourced cheese and charcuterie and a menu of small bites. Make us the perfect pit stop before your Friday dinner plans\, or order a bunch of small plates and have dinner with us!\n\n\nNo Cover and Family Friendly for our Friday Happy Hours! Seating is based on a first come first served basis\, with large group reservations being the exception if you have 8 or more and call in advance\, to reserve space for your group to guarantee seatings.\n\n\n\n2026 Winter & Spring Musician Performances\n\nFriday\, February 6\, 2026- Levi Gangi \nFriday\, February 13\, 2026- River Lynch \nFriday\, February 20\, 2026- Josh Chamberlain \nFriday\, February 27\,  2026- Louiston \nFriday\, March 6\, 2026- Ryan Sutherland \nFriday\, March 13\, 2026- River Lynch \nFriday\, March 20\, 2026- Josh Chamberlain \nFriday\, March 27\, 2026- Ryan Sutherland \nFriday\, April 3\, 2026- Scott Adams \nFriday\, April 10\, 2026- Levi Gangi \nFriday\, April 17\, 2026- River Lynch \nFriday\, April 24\, 2026- Josh Chamberlain
URL:https://barnstormerwinery.com/event/winter-spring-happy-hour-live-music-series-8/
LOCATION:Barnstormer Winery\, 4184 New York 14\, Rock Stream\, NY\, 14878\, United States
CATEGORIES:Free Events at Barnstormer
ATTACH;FMTTYPE=image/png:https://barnstormerwinery.com/wp-content/uploads/2025/09/Winter-Music-Poster-6.png
END:VEVENT
END:VCALENDAR