BEGIN:VCALENDAR
VERSION:2.0
PRODID:-//Barnstormer Winery - ECPv6.15.16//NONSGML v1.0//EN
CALSCALE:GREGORIAN
METHOD:PUBLISH
X-ORIGINAL-URL:https://barnstormerwinery.com
X-WR-CALDESC:Events for Barnstormer Winery
REFRESH-INTERVAL;VALUE=DURATION:PT1H
X-Robots-Tag:noindex
X-PUBLISHED-TTL:PT1H
BEGIN:VTIMEZONE
TZID:America/New_York
BEGIN:DAYLIGHT
TZOFFSETFROM:-0500
TZOFFSETTO:-0400
TZNAME:EDT
DTSTART:20240310T070000
END:DAYLIGHT
BEGIN:STANDARD
TZOFFSETFROM:-0400
TZOFFSETTO:-0500
TZNAME:EST
DTSTART:20241103T060000
END:STANDARD
BEGIN:DAYLIGHT
TZOFFSETFROM:-0500
TZOFFSETTO:-0400
TZNAME:EDT
DTSTART:20250309T070000
END:DAYLIGHT
BEGIN:STANDARD
TZOFFSETFROM:-0400
TZOFFSETTO:-0500
TZNAME:EST
DTSTART:20251102T060000
END:STANDARD
BEGIN:DAYLIGHT
TZOFFSETFROM:-0500
TZOFFSETTO:-0400
TZNAME:EDT
DTSTART:20260308T070000
END:DAYLIGHT
BEGIN:STANDARD
TZOFFSETFROM:-0400
TZOFFSETTO:-0500
TZNAME:EST
DTSTART:20261101T060000
END:STANDARD
END:VTIMEZONE
BEGIN:VEVENT
DTSTART;TZID=America/New_York:20250124T133000
DTEND;TZID=America/New_York:20250124T150000
DTSTAMP:20260420T081947
CREATED:20241118T200535Z
LAST-MODIFIED:20241122T193305Z
UID:10000388-1737725400-1737730800@barnstormerwinery.com
SUMMARY:Tank\, Barrel & Current Release Wine Tasting Series
DESCRIPTION:Join us for an exclusive tasting experience with our Winemaker\, Taylor Stember\, on the 2nd & 4th Fridays of January\, February\, & March! \nTaylor will lead an intimate session for a maximum of 12 people through a rotating curated selection of wines directly from tank and barrel\, and compare them with wines currently in our tasting room. Each pair of tickets will receive a cheese & charcuterie board with light tapas. Folks will be greeted with a pour of our Bubbly Dry Riesling in our cozy lounge by our fireplace and dive into Taylor’s wine selection! Come join us for these wonderfully educational sessions\, exploring the wines of Barnstormer and a deep dive into our current works in progress from the 2024 vintage. Tickets available for purchase\, below. \n21+\, no pets for these events. Please arrive 5 – 10 minutes early! \n  \nTicket price \n$55/pp \n$45/pp Wine Club Members \n  \nThis experience lasts from 1:30pm – 3:00pm for the dates below. \nFriday\, January 10th \nFriday\, January 24th \nFriday\, February 14th \nFriday\, February 28th \nFriday\, March 14th \nFriday\, March 28th
URL:https://barnstormerwinery.com/event/tank-barrel-current-release-wine-tasting-series-2/
LOCATION:Barnstormer Winery\, 4184 New York 14\, Rock Stream\, NY\, 14878\, United States
CATEGORIES:Ticketed Events at Barnstormer
ATTACH;FMTTYPE=image/jpeg:https://barnstormerwinery.com/wp-content/uploads/2024/11/AK09890-scaled.jpg
END:VEVENT
END:VCALENDAR