BEGIN:VCALENDAR
VERSION:2.0
PRODID:-//Barnstormer Winery - ECPv6.15.16//NONSGML v1.0//EN
CALSCALE:GREGORIAN
METHOD:PUBLISH
X-WR-CALNAME:Barnstormer Winery
X-ORIGINAL-URL:https://barnstormerwinery.com
X-WR-CALDESC:Events for Barnstormer Winery
REFRESH-INTERVAL;VALUE=DURATION:PT1H
X-Robots-Tag:noindex
X-PUBLISHED-TTL:PT1H
BEGIN:VTIMEZONE
TZID:America/New_York
BEGIN:DAYLIGHT
TZOFFSETFROM:-0500
TZOFFSETTO:-0400
TZNAME:EDT
DTSTART:20250309T070000
END:DAYLIGHT
BEGIN:STANDARD
TZOFFSETFROM:-0400
TZOFFSETTO:-0500
TZNAME:EST
DTSTART:20251102T060000
END:STANDARD
BEGIN:DAYLIGHT
TZOFFSETFROM:-0500
TZOFFSETTO:-0400
TZNAME:EDT
DTSTART:20260308T070000
END:DAYLIGHT
BEGIN:STANDARD
TZOFFSETFROM:-0400
TZOFFSETTO:-0500
TZNAME:EST
DTSTART:20261101T060000
END:STANDARD
BEGIN:DAYLIGHT
TZOFFSETFROM:-0500
TZOFFSETTO:-0400
TZNAME:EDT
DTSTART:20270314T070000
END:DAYLIGHT
BEGIN:STANDARD
TZOFFSETFROM:-0400
TZOFFSETTO:-0500
TZNAME:EST
DTSTART:20271107T060000
END:STANDARD
END:VTIMEZONE
BEGIN:VEVENT
DTSTART;TZID=America/New_York:20260214T100000
DTEND;TZID=America/New_York:20260215T173000
DTSTAMP:20260420T131543
CREATED:20260209T165624Z
LAST-MODIFIED:20260209T165625Z
UID:10000454-1771063200-1771176600@barnstormerwinery.com
SUMMARY:2025 Rosé Release Weekend
DESCRIPTION:Join us for our Valentine’s Weekend Chocolate & Wine Pairing\, featuring an exclusive first taste of our newly released and unreleased rosé wines alongside a special reserve red. This curated tasting showcases four limited-production bottlings that highlight the elegance\, freshness\, and site-driven character of Barnstormer wines. $18/pp\, paired with a locally made chocolate from Dean Lane Dining. Starting with a pour of our 2024 Bubbly Dry Riesling\, you’ll enjoy a lineup of the following: \n2025 Sangiovese Rosé – Sawmill Creek Vineyard (228 cases produced) \nOur Sangiovese Rosé opens with notes of white raspberries\, freshly picked strawberries\, and violets. A refreshing hint of pithy bitterness complements the bright red fruit\, while mouthwatering acidity makes this an exceptional food-pairing rosé. Enjoy alongside raspberry balsamic drizzle over pizza\, or roasted strawberries and tomatoes over pork chops. \n2025 Cabernet Franc Rosé – Home Farm Vineyard (85 cases produced) \nNew to our rosé portfolio\, these gorgeous Cabernet Franc grapes showed such perfect chemistry that they practically begged to become rosé. Produced in a very small lot\, this bone-dry wine is layered with delicate florals\, marjoram\, and a playful crispness. After this weekend\, it will be available exclusively to our Aviator’s Wine Club members. Pair with your favorite cheeses or tinned fish on warm sourdough. \n2025 Blaufränkisch Rosé – Home Farm Vineyard (304 cases produced) \nThis Blaufränkisch Rosé is bursting with raspberry and vanilla on the nose\, followed by refreshing Campari-like bitterness on the palate. Rich\, expressive\, and unapologetic in character\, notes of pomegranate and allspice melt into a crisp\, vibrant finish. An abundant vintage allowed us to make more of this staff favorite\, but it won’t last long. \n2024 Reserve Cabernet Franc – Home Farm Vineyard (1\,104 bottles produced) \nAlso included in this Valentine’s tasting is an unreleased Reserve Cabernet Franc we couldn’t wait to share. This wine shows beautiful structure and round softness\, accented by bold red plum and spicy cherry chutney. It will not be available in the tasting room after this weekend\, making this a rare opportunity to experience it early. Our farmed & foraged pairing boards will be available all weekend as well. \nCome celebrate Valentine’s Weekend with us and enjoy a thoughtfully curated tasting of limited\, expressive wines that won’t be available for long.
URL:https://barnstormerwinery.com/event/2025-rose-release-weekend/
CATEGORIES:Free Events at Barnstormer,Ticketed Events at Barnstormer
ATTACH;FMTTYPE=image/png:https://barnstormerwinery.com/wp-content/uploads/2026/02/72610647-10ca-779d-4341-c41127df66e4.png
END:VEVENT
END:VCALENDAR