BEGIN:VCALENDAR
VERSION:2.0
PRODID:-//Barnstormer Winery - ECPv6.15.16//NONSGML v1.0//EN
CALSCALE:GREGORIAN
METHOD:PUBLISH
X-WR-CALNAME:Barnstormer Winery
X-ORIGINAL-URL:https://barnstormerwinery.com
X-WR-CALDESC:Events for Barnstormer Winery
REFRESH-INTERVAL;VALUE=DURATION:PT1H
X-Robots-Tag:noindex
X-PUBLISHED-TTL:PT1H
BEGIN:VTIMEZONE
TZID:America/New_York
BEGIN:DAYLIGHT
TZOFFSETFROM:-0500
TZOFFSETTO:-0400
TZNAME:EDT
DTSTART:20150308T070000
END:DAYLIGHT
BEGIN:STANDARD
TZOFFSETFROM:-0400
TZOFFSETTO:-0500
TZNAME:EST
DTSTART:20151101T060000
END:STANDARD
BEGIN:DAYLIGHT
TZOFFSETFROM:-0500
TZOFFSETTO:-0400
TZNAME:EDT
DTSTART:20160313T070000
END:DAYLIGHT
BEGIN:STANDARD
TZOFFSETFROM:-0400
TZOFFSETTO:-0500
TZNAME:EST
DTSTART:20161106T060000
END:STANDARD
BEGIN:DAYLIGHT
TZOFFSETFROM:-0500
TZOFFSETTO:-0400
TZNAME:EDT
DTSTART:20170312T070000
END:DAYLIGHT
BEGIN:STANDARD
TZOFFSETFROM:-0400
TZOFFSETTO:-0500
TZNAME:EST
DTSTART:20171105T060000
END:STANDARD
BEGIN:DAYLIGHT
TZOFFSETFROM:-0500
TZOFFSETTO:-0400
TZNAME:EDT
DTSTART:20180311T070000
END:DAYLIGHT
BEGIN:STANDARD
TZOFFSETFROM:-0400
TZOFFSETTO:-0500
TZNAME:EST
DTSTART:20181104T060000
END:STANDARD
END:VTIMEZONE
BEGIN:VEVENT
DTSTART;TZID=America/New_York:20170617T160000
DTEND;TZID=America/New_York:20170617T203000
DTSTAMP:20260421T094624
CREATED:20170414T191536Z
LAST-MODIFIED:20200603T235500Z
UID:10000026-1497715200-1497731400@barnstormerwinery.com
SUMMARY:Barnnaroo for Spirit of Schuyler
DESCRIPTION:The BABY Boomers Band & The Sweats join Barnstormer Winery for an evening of charity to support the Spirit of Schuyler!A cover charge of $5 per vehicle for parking (to encourage carpooling) will gain you access to our evening of incredible live music\, delicious food from Big phatdaddy’s BBQ\, and wine and beer provided by Barnstormer Winery!A portion of each glass of wine and beer sold – and each bottle of wine sold – during the event will be donated to the Spirit of Schuyler. Stock up for summer weather on Barnstormer wines and help us give back! \nThis a family friendly event!
URL:https://barnstormerwinery.com/event/barnnaroo-for-spirit-of-schuyler/
LOCATION:NY
CATEGORIES:Ticketed Events at Barnstormer
ATTACH;FMTTYPE=:
END:VEVENT
BEGIN:VEVENT
DTSTART;TZID=America/New_York:20170514T150000
DTEND;TZID=America/New_York:20170514T173000
DTSTAMP:20260421T094624
CREATED:20170412T005244Z
LAST-MODIFIED:20200603T235500Z
UID:10000030-1494774000-1494783000@barnstormerwinery.com
SUMMARY:Mother's Day Painting Party w/ Steve Duprey
DESCRIPTION:Our resident “Tree Guy” artist Steve Duprey returns for his 3rd Painting Party at Barnstormer Winery. \nMothers and their children can join together to share some wine over a fun afternoon of painting with Steve of Dupreyart! There is no talent or previous painting experience necessary and all painting materials are provided with the cost of the class. Take home a piece of art you’ll be PROUD to hang on your walls at home. \nThis class is limited\, so be sure to contact Steve\, or send us a message at Barnstormer Winery to reserve your seat\, soon. \n$35 per person
URL:https://barnstormerwinery.com/event/mothers-day-painting-party-w-steve-duprey/
LOCATION:NY
CATEGORIES:Ticketed Events at Barnstormer
END:VEVENT
BEGIN:VEVENT
DTSTART;TZID=America/New_York:20170317T183000
DTEND;TZID=America/New_York:20170317T223000
DTSTAMP:20260421T094624
CREATED:20161102T231848Z
LAST-MODIFIED:20200603T235500Z
UID:10000048-1489775400-1489789800@barnstormerwinery.com
SUMMARY:Seneca Lake Brewing & Barnstormer St. Patrick's Party
DESCRIPTION:Hosted at SENECA LAKE BREWING’s Tasting Room across from Glenora Wine Cellars!! \nDetails TBD
URL:https://barnstormerwinery.com/event/barnstormers-st-patricks-eve-party/
LOCATION:NY
CATEGORIES:Ticketed Events at Barnstormer
END:VEVENT
BEGIN:VEVENT
DTSTART;TZID=America/New_York:20170310T173000
DTEND;TZID=America/New_York:20170310T193000
DTSTAMP:20260421T094624
CREATED:20161102T231658Z
LAST-MODIFIED:20200603T235500Z
UID:10000010-1489167000-1489174200@barnstormerwinery.com
SUMMARY:Barnstormer Winter Concert Series - Part 9
DESCRIPTION:Our final winter concert series (before our St. Patrick’s Party next week) features Evan Dillon from 530pm – 730pm. \nCome and get cozy with some great tunes\, company and Barnstormer wines! A great way to shake off the chill of winter. \nThese events are kid friendly so bring the family out for a fun evening. \nSee you all then!
URL:https://barnstormerwinery.com/event/barnstormer-winter-concert-series-part-9-2/
LOCATION:NY
CATEGORIES:Ticketed Events at Barnstormer
END:VEVENT
BEGIN:VEVENT
DTSTART;TZID=America/New_York:20170303T173000
DTEND;TZID=America/New_York:20170303T193000
DTSTAMP:20260421T094624
CREATED:20161102T231527Z
LAST-MODIFIED:20200603T235500Z
UID:10000014-1488562200-1488569400@barnstormerwinery.com
SUMMARY:Barnstormer Winter Concert Series - Part 8
DESCRIPTION:Our eighth winter concert series features a local favorite\, the talented Robin Burnett & Scott Muir duo from 530 – 730pm. \nCome and get cozy with some great tunes\, company and Barnstormer wines! A great way to shake off the chill of winter. \nThese events are kid friendly so bring the family out for a fun evening. \nSee you all then!
URL:https://barnstormerwinery.com/event/barnstormer-winter-concert-series-part-8-2/
LOCATION:NY
CATEGORIES:Ticketed Events at Barnstormer
END:VEVENT
BEGIN:VEVENT
DTSTART;TZID=America/New_York:20170224T173000
DTEND;TZID=America/New_York:20170224T193000
DTSTAMP:20260421T094624
CREATED:20161102T231257Z
LAST-MODIFIED:20200603T235500Z
UID:10000013-1487957400-1487964600@barnstormerwinery.com
SUMMARY:Barnstormer Concert Series - Part 7
DESCRIPTION:Our seventh winter concert series features Matt Durfee from 530pm – 730pm. http://www.mattdurfeemusic.com/ \nCome and get cozy with some great tunes\, company and Barnstormer wines! A great way to shake off the chill of winter. \nThese events are kid friendly so bring the family out for a fun evening. \nSee you all then!
URL:https://barnstormerwinery.com/event/barnstormer-concert-series-part-7/
LOCATION:NY
CATEGORIES:Ticketed Events at Barnstormer
END:VEVENT
BEGIN:VEVENT
DTSTART;TZID=America/New_York:20170217T173000
DTEND;TZID=America/New_York:20170217T193000
DTSTAMP:20260421T094624
CREATED:20161102T231026Z
LAST-MODIFIED:20200603T235500Z
UID:10000012-1487352600-1487359800@barnstormerwinery.com
SUMMARY:Barnstormer Concert Series - Part 6
DESCRIPTION:Our sixth winter concert series features Nick Andrew Staver\, a local soloist with a lot of talent. https://www.facebook.com/nickandrewstaver \nCome and get cozy with some great tunes\, company and Barnstormer wines! A great way to shake off the chill of winter. \nThese events are kid friendly so bring the family out for a fun evening. \nSee you all then!
URL:https://barnstormerwinery.com/event/barnstormer-concert-series-part-6/
LOCATION:NY
CATEGORIES:Ticketed Events at Barnstormer
END:VEVENT
BEGIN:VEVENT
DTSTART;TZID=America/New_York:20170210T173000
DTEND;TZID=America/New_York:20170210T193000
DTSTAMP:20260421T094624
CREATED:20161102T230805Z
LAST-MODIFIED:20200603T235500Z
UID:10000011-1486747800-1486755000@barnstormerwinery.com
SUMMARY:Barnstormer Winter Concert Series - Part 5
DESCRIPTION:Our fifth winter concert series features a duo called Acoustic Remedy from 530pm – 730pm. Check them out here: http://www.acousticremedy.com/ \nCome and get cozy with some great tunes\, company and Barnstormer wines! A great way to shake off the chill of winter. \nThese events are kid friendly so bring the family out for a fun evening. \nSee you all then!
URL:https://barnstormerwinery.com/event/barnstormer-winter-concert-series-part-5-2/
LOCATION:NY
CATEGORIES:Ticketed Events at Barnstormer
END:VEVENT
BEGIN:VEVENT
DTSTART;TZID=America/New_York:20170203T173000
DTEND;TZID=America/New_York:20170203T193000
DTSTAMP:20260421T094624
CREATED:20161102T230515Z
LAST-MODIFIED:20200603T235500Z
UID:10000001-1486143000-1486150200@barnstormerwinery.com
SUMMARY:Barnstormer Winter Concert Series - Part 4
DESCRIPTION:Our fourth winter series features a local favorite\, Jaimie Potter\, from 530pm – 730pm!  \nCome and get cozy with some great tunes\, company and Barnstormer wines! \nThese events are kid friendly so bring the family out for a fun evening. \nSee you all then! \nJaimie Potter @ Barnstormer Winery’s Winter Concert Series!
URL:https://barnstormerwinery.com/event/barnstormer-winter-concert-series-part-4-2/
LOCATION:NY
CATEGORIES:Ticketed Events at Barnstormer
END:VEVENT
BEGIN:VEVENT
DTSTART;TZID=America/New_York:20170127T173000
DTEND;TZID=America/New_York:20170127T193000
DTSTAMP:20260421T094624
CREATED:20161102T230221Z
LAST-MODIFIED:20200603T235500Z
UID:10000017-1485538200-1485545400@barnstormerwinery.com
SUMMARY:Barnstormer Winter Concert Series - Part 3
DESCRIPTION:Our third winter concert series features the local duo\, Be the Change. https://www.facebook.com/bethechangemusic \nCome and get cozy with some great tunes\, company and Barnstormer wines!  \nThese events are kid friendly so bring the family out for a fun evening.  \nSee you all then!
URL:https://barnstormerwinery.com/event/barnstormer-winter-concert-series-part-3-2/
LOCATION:NY
CATEGORIES:Ticketed Events at Barnstormer
END:VEVENT
BEGIN:VEVENT
DTSTART;TZID=America/New_York:20170120T173000
DTEND;TZID=America/New_York:20170120T193000
DTSTAMP:20260421T094624
CREATED:20161102T225752Z
LAST-MODIFIED:20200603T235500Z
UID:10000016-1484933400-1484940600@barnstormerwinery.com
SUMMARY:Barnstormer Winter Concert Series - Part 2
DESCRIPTION:Our second winter concert series features the trio\, St. Vith\, from 530pm – 730pm! https://stvithband.com/ \nCome and get cozy with some great tunes\, company and Barnstormer wines!  \nThese events are kid friendly so bring the family out for a fun evening.  \nSee you all then!
URL:https://barnstormerwinery.com/event/barnstormer-winter-concert-series-part-2-2/
LOCATION:NY
CATEGORIES:Ticketed Events at Barnstormer
END:VEVENT
BEGIN:VEVENT
DTSTART;TZID=America/New_York:20170113T173000
DTEND;TZID=America/New_York:20170113T193000
DTSTAMP:20260421T094624
CREATED:20161102T225452Z
LAST-MODIFIED:20200603T235500Z
UID:10000015-1484328600-1484335800@barnstormerwinery.com
SUMMARY:Barnstormer Winter Concert Series - Part 1
DESCRIPTION:It’s back! Our 4th annual Winter Concert Series starts on Friday\, January 13th from 530pm – 730pm. \nScott Adams will be leading off this winter’s series so come and get cozy with some great tunes\, company and Barnstormer wines! \nThese events are kid friendly so bring the family out for a fun evening. \nSee you all then!
URL:https://barnstormerwinery.com/event/barnstormer-winter-concert-series-part-1-2/
LOCATION:NY
CATEGORIES:Ticketed Events at Barnstormer
END:VEVENT
BEGIN:VEVENT
DTSTART;TZID=America/New_York:20160917T160000
DTEND;TZID=America/New_York:20160917T200000
DTSTAMP:20260421T094625
CREATED:20160406T224035Z
LAST-MODIFIED:20200603T235500Z
UID:10000002-1474128000-1474142400@barnstormerwinery.com
SUMMARY:Barnstormer Winery 3rd Anniversary Party
DESCRIPTION:It is really amazing to think only three years has gone by since we opened in September of 2013. We want to pay it back to our loyal customers and fans with an evening of great eats\, good tunes & delicious wines. \nHector BBQ Company will be coming back and will be offering dinner from their fantastic BBQ menu starting around 4pm. A vegetarian option will be available! \nFrom the alternative rock band Underwater Tiger\, Nate Miner and Matt Furstoss deliver an exciting and energetic acoustic performance that is sure to catch your attention. They will have you singing and dancing with a song list spanning from classics to modern radio hits\, accompanied by original songs. Adding their own unique flair and style to each song\, they will keep you captivated from start to finish.   \nWe will be doing $3/off ANY BOTTLES of Barnstormer wine and $2/off ANY GLASSES of Barnstormer wine. $1/off PINTS from local craft beer producers as well. \nYard games\, picnic setups and more. \nCome hang for a relaxing evening of fun and good friends. \nChildren welcome with adult supervision. Freezy pops will be supplied! DD’s highly recommended. \nCheers! \n \nhector_bbq_vector
URL:https://barnstormerwinery.com/event/barnstormer-winery-3rd-anniversary-party-5pm-until-8pm/
LOCATION:NY
CATEGORIES:Ticketed Events at Barnstormer
END:VEVENT
BEGIN:VEVENT
DTSTART;TZID=America/New_York:20160809T173000
DTEND;TZID=America/New_York:20160809T193000
DTSTAMP:20260421T094625
CREATED:20160406T223623Z
LAST-MODIFIED:20200603T235500Z
UID:10000022-1470763800-1470771000@barnstormerwinery.com
SUMMARY:Summer Concert Series - Final\, Part 9 - 2016
DESCRIPTION:What is quietly becoming a tradition\, Robin Burnett & Scott Muir wrap up our summer series.  \nPi Truck is also joining us on this one so bring your appetite. \nFree to come. Lets pack the house!!!  \nThanks to everyone for your support. The more who show\, the more concerts we can do!
URL:https://barnstormerwinery.com/event/summer-concert-series-final-part-9-2016/
LOCATION:NY
CATEGORIES:Ticketed Events at Barnstormer
END:VEVENT
BEGIN:VEVENT
DTSTART;TZID=America/New_York:20160802T173000
DTEND;TZID=America/New_York:20160802T193000
DTSTAMP:20260421T094625
CREATED:20160406T223418Z
LAST-MODIFIED:20200603T235500Z
UID:10000021-1470159000-1470166200@barnstormerwinery.com
SUMMARY:Summer Concert Series - Part 8 - 2016
DESCRIPTION:For our second to last Tuesday series\, we bring in a new act for us\, Purple Valley! \nGlobal Taco Food Truck will be here as well\, so come hungry. \nFree to come!! \nSee you all then.
URL:https://barnstormerwinery.com/event/summer-concert-series-part-8-2016/
LOCATION:NY
CATEGORIES:Ticketed Events at Barnstormer
END:VEVENT
BEGIN:VEVENT
DTSTART;TZID=America/New_York:20160726T173000
DTEND;TZID=America/New_York:20160726T193000
DTSTAMP:20260421T094625
CREATED:20160406T223150Z
LAST-MODIFIED:20200603T235500Z
UID:10000020-1469554200-1469561400@barnstormerwinery.com
SUMMARY:Summer Concert Series - Part 7 - 2016
DESCRIPTION:One of our favorites\, Seneca Jam\, joins us this evening as we rock the Barnery.  \nPi Food Truck will be serving up an assortment of their fine fare so bring an appetite. \nAs always\, free to attend\, Bring your friends and family and come support local!! \nCheers.
URL:https://barnstormerwinery.com/event/summer-concert-series-part-7-2016/
LOCATION:NY
CATEGORIES:Ticketed Events at Barnstormer
END:VEVENT
BEGIN:VEVENT
DTSTART;TZID=America/New_York:20160719T173000
DTEND;TZID=America/New_York:20160719T193000
DTSTAMP:20260421T094625
CREATED:20160406T223007Z
LAST-MODIFIED:20200603T235500Z
UID:10000019-1468949400-1468956600@barnstormerwinery.com
SUMMARY:Summer Concert Series - Part 6 - 2016
DESCRIPTION:The Led Foot Trio will be rocking the house for part 6 of our Tuesday summer series.  \nA wide assortment of local cheeses\, meats and more will be offered on our in-house cheeseboards for $12.00. \nSee you all then!!
URL:https://barnstormerwinery.com/event/summer-concert-series-part-6-2016/
LOCATION:NY
CATEGORIES:Ticketed Events at Barnstormer
END:VEVENT
BEGIN:VEVENT
DTSTART;TZID=America/New_York:20160712T173000
DTEND;TZID=America/New_York:20160712T193000
DTSTAMP:20260421T094625
CREATED:20160406T222716Z
LAST-MODIFIED:20200603T235500Z
UID:10000003-1468344600-1468351800@barnstormerwinery.com
SUMMARY:Summer Concert Series - Part 5 - 2016
DESCRIPTION:The local and talented Jaimie Potter joins us for our 5th Tuesday evening series.  \nFingers crossed on Silo Food Truck as well! TBD on confirmation. \nAs always\, free to come. Bring your family and friends and enjoy all that summer has to offer in the FLX! \nCheers. \nJaimie Potter @ Barnstormer Winery’s Winter Concert Series!
URL:https://barnstormerwinery.com/event/summer-concert-series-part-5-2016/
LOCATION:NY
CATEGORIES:Ticketed Events at Barnstormer
END:VEVENT
BEGIN:VEVENT
DTSTART;TZID=America/New_York:20160705T173000
DTEND;TZID=America/New_York:20160705T193000
DTSTAMP:20260421T094625
CREATED:20160406T222539Z
LAST-MODIFIED:20200603T235500Z
UID:10000025-1467739800-1467747000@barnstormerwinery.com
SUMMARY:Summer Concert Series - Part 4 - 2016
DESCRIPTION:Returning to our normal Tuesday evening concert hours\, we bring you Buford & Joe! We heard this guys play on the east side of Seneca and had to get them booked. \nGlobal Taco will be joining us this evening with their wide and delicious assortment of fresh ingredients. Be sure to bring your appetite.  \nSee you all then!
URL:https://barnstormerwinery.com/event/summer-concert-series-part-4-2016/
LOCATION:NY
CATEGORIES:Ticketed Events at Barnstormer
END:VEVENT
BEGIN:VEVENT
DTSTART;TZID=America/New_York:20160701T170000
DTEND;TZID=America/New_York:20160701T210000
DTSTAMP:20260421T094625
CREATED:20160405T221552Z
LAST-MODIFIED:20200603T235500Z
UID:10000024-1467392400-1467406800@barnstormerwinery.com
SUMMARY:2016 Reds\, Whites & Blues Festival - 3rd Annual
DESCRIPTION:Welcome to our biggest event of the year! Our third annual Reds\, Whites & Blues Festival is tucked in between our concert series and falls on Friday\, July 1st this year.  \nFrom 5pm – 9pm\, we have two bands playing. Whippoorwillow to start and the dynamic blues of Scott & Brett (Beer & Bumpy) to round off the evening. \nCatering will be done by Eastside Grill &  Chef Williams Creations so come hungry! \nD’Angelo Cigars is coming back to sell more Nosedive Port Cigars for your puffing pleasure. \nChatham Brewing from the Albany area as agreed to come pour beer for the event as well and will be bringing a variety of their fine ales for $6.50 a pint. \nThe is a kid friendly event! We highly recommend carpooling and having a designated driver in your group. \nNO COVER CHARGE!!
URL:https://barnstormerwinery.com/event/2016-reds-whites-blues-festival-3rd-annual/
LOCATION:NY
CATEGORIES:Ticketed Events at Barnstormer
END:VEVENT
BEGIN:VEVENT
DTSTART;TZID=America/New_York:20160621T173000
DTEND;TZID=America/New_York:20160621T193000
DTSTAMP:20260421T094625
CREATED:20160405T221039Z
LAST-MODIFIED:20200603T235500Z
UID:10000023-1466530200-1466537400@barnstormerwinery.com
SUMMARY:Summer Concert Series & Teacher's Night - Part 3 - 2016
DESCRIPTION:Teacher’s night is back! We will be offering discounts all night to the folks who work hard to educate our youth. No ID needed\, we trust your word. \nThe Sweats will be rocking the house this evening. \nPi Truck (https://www.facebook.com/Pi-Truck-1616634411948115/) will be offering their delicious fare. Did you know they are 100% solar?? \nAs always\, free to come. Bring your friends and come hang with us!
URL:https://barnstormerwinery.com/event/summer-concert-series-teachers-night-part-3-2016/
LOCATION:NY
CATEGORIES:Ticketed Events at Barnstormer
END:VEVENT
BEGIN:VEVENT
DTSTART;TZID=America/New_York:20160614T173000
DTEND;TZID=America/New_York:20160614T193000
DTSTAMP:20260421T094625
CREATED:20160405T220549Z
LAST-MODIFIED:20200603T235500Z
UID:10000004-1465925400-1465932600@barnstormerwinery.com
SUMMARY:Summer Concert Series - Part 2 - 2016
DESCRIPTION:Round two brings us Benjamin Bloodgood! Live tunes along with your favorite Barnstormer wines will certainly make for an enjoyable evening. \nFingers crossed as we try to get Silo Food Truck on board as well! \nSee you all then!!
URL:https://barnstormerwinery.com/event/summer-concert-series-part-2-2016/
LOCATION:NY
CATEGORIES:Ticketed Events at Barnstormer
END:VEVENT
BEGIN:VEVENT
DTSTART;TZID=America/New_York:20160607T173000
DTEND;TZID=America/New_York:20160607T193000
DTSTAMP:20260421T094625
CREATED:20160405T220358Z
LAST-MODIFIED:20200603T235500Z
UID:10000029-1465320600-1465327800@barnstormerwinery.com
SUMMARY:Summer Concert Series - Part 1 - 2016
DESCRIPTION:After a short break in the springtime for bottling and busy season prep\, we are back at it with our third annual Barnstormer Summer Concert Series! \nScott Adams will be leading the way and will be bringing some Hector tunes with him. \nGlobal Taco to cater so bring your appetite! \nSee you all then!
URL:https://barnstormerwinery.com/event/summer-concert-series-part-1-2016/
LOCATION:NY
CATEGORIES:Ticketed Events at Barnstormer
END:VEVENT
BEGIN:VEVENT
DTSTART;TZID=America/New_York:20160326T173000
DTEND;TZID=America/New_York:20160326T193000
DTSTAMP:20260421T094625
CREATED:20150903T222213Z
LAST-MODIFIED:20200603T235500Z
UID:10000028-1459013400-1459020600@barnstormerwinery.com
SUMMARY:Barnstormer Winter Concert Series – Part 12 & Sangiovese Rosé Release!
DESCRIPTION:The last of our Winter Concert Series and our second annual Sangiovese Rosé Release!! Come celebrate this last Saturday of Barnstormer Winery featuring some old favorites and new artists in our tasting room from 5:30-7:30pm. \nFor our 12th and final concert in the series\, we feature the local and lovely Jaimie Potter playing some of your favorite covers while we provide Barnstormer wine and local craft beers. Come in\, warm up\, and get out of the house this winter for the last one of the season! \nJaimie Potter @ Barnstormer Winery’s Winter Concert Series!
URL:https://barnstormerwinery.com/event/barnstormer-winter-concert-series-part-12/
LOCATION:NY
CATEGORIES:Ticketed Events at Barnstormer
END:VEVENT
BEGIN:VEVENT
DTSTART;TZID=America/New_York:20160319T173000
DTEND;TZID=America/New_York:20160319T193000
DTSTAMP:20260421T094625
CREATED:20150903T222050Z
LAST-MODIFIED:20200603T235500Z
UID:10000027-1458408600-1458415800@barnstormerwinery.com
SUMMARY:Barnstormer Winter Concert Series – Part 11
DESCRIPTION:Our Winter Concert Series is back! Every Saturday Barnstormer Winery will feature some old favorites and new artists in our tasting room from 5:30-7:30pm. \nFor our 11th concert in the series\, we feature Robin Burnett playing all of your favorite folk and rock classics with Scott Muir\, while we provide Barnstormer wine and local craft beers. Come in\, warm up\, and get out of the house this winter! \nhttp://www.robinburnettandaband.com/
URL:https://barnstormerwinery.com/event/barnstormer-winter-concert-series-part-11/
LOCATION:NY
CATEGORIES:Ticketed Events at Barnstormer
END:VEVENT
BEGIN:VEVENT
DTSTART;TZID=America/New_York:20160305T173000
DTEND;TZID=America/New_York:20160305T193000
DTSTAMP:20260421T094625
CREATED:20150903T221810Z
LAST-MODIFIED:20200603T235501Z
UID:10000005-1457199000-1457206200@barnstormerwinery.com
SUMMARY:Barnstormer Winter Concert Series – Part 9
DESCRIPTION:Our Winter Concert Series is back! Every Saturday Barnstormer Winery will feature some old favorites and new artists in our tasting room from 5:30-7:30pm. \nFor our 9th concert in the series\, we feature the unique Sugar Lumps playing music from the Speakeasy culture of the 1920’s\, ’30’s\, and ’40s\, while we provide Barnstormer wine and local craft beers. Come in\, warm up\, and get out of the house this winter!
URL:https://barnstormerwinery.com/event/barnstormer-winter-concert-series-part-9/
LOCATION:NY
CATEGORIES:Ticketed Events at Barnstormer
END:VEVENT
BEGIN:VEVENT
DTSTART;TZID=America/New_York:20160227T173000
DTEND;TZID=America/New_York:20160227T193000
DTSTAMP:20260421T094625
CREATED:20150903T221638Z
LAST-MODIFIED:20200603T235501Z
UID:10000034-1456594200-1456601400@barnstormerwinery.com
SUMMARY:Barnstormer Winter Concert Series – Part 8
DESCRIPTION:Our Winter Concert Series is back! Every Saturday Barnstormer Winery will feature some old favorites and new artists in our tasting room from 5:30-7:30pm. \nFor our 8th concert in the series\, Sarah & Joe Mull will be playing while we provide Barnstormer wine and local craft beers. Come in\, warm up\, and get out of the house this winter!
URL:https://barnstormerwinery.com/event/barnstormer-winter-concert-series-part-8/
LOCATION:NY
CATEGORIES:Ticketed Events at Barnstormer
END:VEVENT
BEGIN:VEVENT
DTSTART;TZID=America/New_York:20160220T173000
DTEND;TZID=America/New_York:20160220T193000
DTSTAMP:20260421T094625
CREATED:20150903T221524Z
LAST-MODIFIED:20200603T235501Z
UID:10000033-1455989400-1455996600@barnstormerwinery.com
SUMMARY:Barnstormer Winter Concert Series – Part 7
DESCRIPTION:Our Winter Concert Series is back! Every Saturday Barnstormer Winery will feature some old favorites and new artists in our tasting room from 5:30-7:30pm. \nFor our 7th concert in the series\, we feature the captivating Nick Andrew Staver all the way from south central PA. Nick will provide a new voice and some killer blues and roots\, while we provide Barnstormer wine and local craft beers. Come in\, warm up\, and get out of the house this winter! \nhttp://www.nickandrewstaver.com/
URL:https://barnstormerwinery.com/event/barnstormer-winter-concert-series-part-7/
LOCATION:NY
CATEGORIES:Ticketed Events at Barnstormer
END:VEVENT
BEGIN:VEVENT
DTSTART;TZID=America/New_York:20160213T173000
DTEND;TZID=America/New_York:20160213T193000
DTSTAMP:20260421T094625
CREATED:20150903T221411Z
LAST-MODIFIED:20200603T235501Z
UID:10000032-1455384600-1455391800@barnstormerwinery.com
SUMMARY:Barnstormer Winter Concert Series – Part 6
DESCRIPTION:Our Winter Concert Series is back! Every Saturday Barnstormer Winery will feature some old favorites and new artists in our tasting room from 5:30-7:30pm. \nFor our 6th concert in the series\, we feature the duo of Mike Shaw and Heinrik Heyn from Lodi\, NY playing some delta blues while we provide Barnstormer wine and local craft beers. Come in\, warm up\, and get out of the house this winter! \nAlso on site\, will be http://www.glenmountainmarket.com/ serving up sandwiches and hot soup to fight the chilly weather!! \nhttp://www.deltamikeshaw.com/
URL:https://barnstormerwinery.com/event/barnstormer-winter-concert-series-part-6/
LOCATION:NY
CATEGORIES:Ticketed Events at Barnstormer
END:VEVENT
BEGIN:VEVENT
DTSTART;TZID=America/New_York:20160206T173000
DTEND;TZID=America/New_York:20160206T193000
DTSTAMP:20260421T094625
CREATED:20150903T221301Z
LAST-MODIFIED:20200603T235501Z
UID:10000031-1454779800-1454787000@barnstormerwinery.com
SUMMARY:Barnstormer Winter Concert Series – Part 5
DESCRIPTION:Our Winter Concert Series is back! Every Saturday Barnstormer Winery will feature some old favorites and new artists in our tasting room from 5:30-7:30pm. \nFor our 5th concert in the series\, we feature the talented Hector-native Scott B Adams playing some of your favorite blues\, folk and rock tunes while we provide Barnstormer wine and local craft beers. Come in\, warm up\, and get out of the house this winter! \nhttps://www.facebook.com/ScottBAdamsMusic\nhttp://www.orchardbeat.com/
URL:https://barnstormerwinery.com/event/barnstormer-winter-concert-series-part-5/
LOCATION:NY
CATEGORIES:Ticketed Events at Barnstormer
END:VEVENT
END:VCALENDAR