BEGIN:VCALENDAR
VERSION:2.0
PRODID:-//Barnstormer Winery - ECPv6.15.16//NONSGML v1.0//EN
CALSCALE:GREGORIAN
METHOD:PUBLISH
X-WR-CALNAME:Barnstormer Winery
X-ORIGINAL-URL:https://barnstormerwinery.com
X-WR-CALDESC:Events for Barnstormer Winery
REFRESH-INTERVAL;VALUE=DURATION:PT1H
X-Robots-Tag:noindex
X-PUBLISHED-TTL:PT1H
BEGIN:VTIMEZONE
TZID:America/New_York
BEGIN:DAYLIGHT
TZOFFSETFROM:-0500
TZOFFSETTO:-0400
TZNAME:EDT
DTSTART:20220313T070000
END:DAYLIGHT
BEGIN:STANDARD
TZOFFSETFROM:-0400
TZOFFSETTO:-0500
TZNAME:EST
DTSTART:20221106T060000
END:STANDARD
BEGIN:DAYLIGHT
TZOFFSETFROM:-0500
TZOFFSETTO:-0400
TZNAME:EDT
DTSTART:20230312T070000
END:DAYLIGHT
BEGIN:STANDARD
TZOFFSETFROM:-0400
TZOFFSETTO:-0500
TZNAME:EST
DTSTART:20231105T060000
END:STANDARD
BEGIN:DAYLIGHT
TZOFFSETFROM:-0500
TZOFFSETTO:-0400
TZNAME:EDT
DTSTART:20240310T070000
END:DAYLIGHT
BEGIN:STANDARD
TZOFFSETFROM:-0400
TZOFFSETTO:-0500
TZNAME:EST
DTSTART:20241103T060000
END:STANDARD
END:VTIMEZONE
BEGIN:VEVENT
DTSTART;TZID=America/New_York:20230602T130000
DTEND;TZID=America/New_York:20230602T143000
DTSTAMP:20260422T205557
CREATED:20230426T150307Z
LAST-MODIFIED:20230517T175948Z
UID:10000285-1685710800-1685716200@barnstormerwinery.com
SUMMARY:Winemaker Vineyard Tour & Tasting
DESCRIPTION:Join us for the months of June & July for our annual Vineyard Tours on Fridays from 1pm – 230pm. These tours will be led by the winemaker\, Taylor\, or a knowledgable member of our winery team. These educational tours will include a 30 minute tour of our vineyard\, along with a few samples of wine on the walking portion of the tour (please wear comfortable shoes). On rainy days\, we will handle this portion of the tour in our wine production cellar. \nAfterwards\, you will be seated (either indoors or outdoors\, weather dependent) for a 45 minute – 1 hour wine tasting of 5-6 wines\, paired with our farmed & foraged pairing board for light bites\, featuring a variety of locally sourced cheese\, charcuterie\, pickles/fermented goods and crackers. These Winemaker Vineyard Tour & Tastings are a great way to learn more about the grape growing in the Finger Lakes\, along with our vision here at Barnstormer Winery. \n21+ over. No pets. These are walking tours so please plan accordingly! Wine Club Members will receive a couple complimentary reserve wine pours throughout the experience. We cap these tours to 8 guests in total. You are welcome to book out the entire tour to make it a private experience. \nPlease call 607-243-4008 with questions\, or simply book your tickets below! $45/pp includes fees and taxes.
URL:https://barnstormerwinery.com/event/winemaker-vineyard-tour-tasting-12/
LOCATION:Barnstormer Winery\, 4184 New York 14\, Rock Stream\, NY\, 14878\, United States
CATEGORIES:Ticketed Events at Barnstormer
ATTACH;FMTTYPE=image/jpeg:https://barnstormerwinery.com/wp-content/uploads/2022/09/QRS_1035.jpg
END:VEVENT
BEGIN:VEVENT
DTSTART;TZID=America/New_York:20230603T110000
DTEND;TZID=America/New_York:20230603T160000
DTSTAMP:20260422T205557
CREATED:20230306T162006Z
LAST-MODIFIED:20230426T152836Z
UID:10000268-1685790000-1685808000@barnstormerwinery.com
SUMMARY:June Aviator's Wine Club Pickup Party
DESCRIPTION:Join us for the June release of our Aviator’s Wine Club! Running on the first Saturday of each quarter from 11am – 4pm\, RSVP for you and a guest for a complimentary tasting of the four AWC release wines\, along with a freshly prepared seasonal culinary (BBQ!) pairing for two. A vegetarian option will be available upon request! \nWant to bring additional guests? You may bring up to four guests for $27/pp\, which includes the tasting of four wines & culinary pairing. \nPlease RSVP below\, or by e-mailing Kelly @ reservations@barnstormerwinery.com \nWe look forward to seeing our AWC Members this June!
URL:https://barnstormerwinery.com/event/june-aviators-wine-club-pickup-party/
LOCATION:NY
CATEGORIES:Aviator's Wine Club Events
ATTACH;FMTTYPE=image/jpeg:https://barnstormerwinery.com/wp-content/uploads/2022/09/QRS_1037.jpg
END:VEVENT
BEGIN:VEVENT
DTSTART;TZID=America/New_York:20230606T170000
DTEND;TZID=America/New_York:20230606T200000
DTSTAMP:20260422T205557
CREATED:20230418T172151Z
LAST-MODIFIED:20230601T122844Z
UID:10000271-1686070800-1686081600@barnstormerwinery.com
SUMMARY:Summer Happy Hour\, Live Music & Caterer Series!
DESCRIPTION:Join us at Barnstormer Winery this summer on Tuesday evenings from 5pm – 8pm\, for our ninth annual Happy Hour\, Live Music & Caterer series! Running June\, July\, August and briefly into September\, we feature musicians who write and perform all original music. Enjoy Barnstormer wine\, local beer and craft cocktails\, along with locally sourced & seasonally fresh pop-up catering menus each week by our good friends at Dean Lane Catering.\n\n\nAppetizers \n\nPan Fried Shrimp Dumplings        3/$7\n\nSesame/ soy dipping sauce \n\nCrispy Pork Wontons 6/$5\n\nSweet Chili Sauce \n\nChinese BBQ Spare Ribs 4/$12\n\nCreamy Coleslaw \nEntrees \n\nMongolian Beef $17\n\nThinly Sliced Beef with Dark Sauce and Scallions\, Served over Fried Rice \n\nGeneral Tsao’s Chicken w Broccoli $16\n\nSweet and Spicy\, Served over Fried Rice \n\nHoney Chicken w Broccoli $16\n\nSweet and Tangy\, Served over Fried Rice \n\nKung Pao Shrimp $17\n\nPeanuts and Scallions\, Served over Fried Rice \n\nVeggie Lo Mein $15\n\nSteamed Broccoli\, fresh veggies \n\n\n\n\nNo Cover and Family Friendly for our Tuesday Happy Hours! Seating is based on a first come first served basis\, with large group reservations being the exception if you have 8 or more and call in advance\, to reserve one of our three cabanas for your group to guarantee seatings.\nLocal musicians performing all original music!\n\nOur Flight Bar will be open on sunny summer days. Is there is rain on the forecast\, we will host these events indoors.\n\nJune 6th: Scott Adams\nJune 13th: Mike Lucey\nJune 20th: River Lynch\nJune 27th: Charlie Reitz\nJuly 4th: Adam Guinn\nJuly 11th: Joe Kaplan\nJuly 18th: Freight\nJuly 25th: Scott Tremolo\nAugust 1st: Louiston\nAugust 8th: Rena Guinn\nAugust 15th: Jacob Shipley\nAugust 22nd: Joe Lule\nAugust 29th: Laura Thurston\nSeptember 5th: John Horne\n\nSeptember 10th (Sunday): 1PM – 10PM. Ten Year Anniversary Celebration! Dean Lane Catering from 1pm – 8pm. Rachel Beverly (130-330p)\, Joe Lule & Rena Guinn (4-630p)\, Cast Iron Cowboys (7-930p). Tickets available through our website events tab\, including VIP tickets.\nhttps://barnstormerwinery.com/…/barnstormer-10-year…/\n\nParking fills up fast so try and carpool as well.\nDon’t miss it!\n\nHave a larger group (8 or more) and want to reserve one of our three cabanas? Please give us a call in advance at 607-243-4008. These events are typically held outside on the winery grounds and they will run rain or shine!\n\nFamily friendly. Dog friendly. Bring your picnic blankets and lawn chairs as well if you’d like!\n\nWe can’t wait to kick these off!
URL:https://barnstormerwinery.com/event/happy-hour-live-music-caterer-series/
LOCATION:Barnstormer Winery\, 4184 New York 14\, Rock Stream\, NY\, 14878\, United States
CATEGORIES:Free Events at Barnstormer
ATTACH;FMTTYPE=image/jpeg:https://barnstormerwinery.com/wp-content/uploads/2023/04/Summer-Concert-Series-Flyer-Updated.jpg
END:VEVENT
BEGIN:VEVENT
DTSTART;TZID=America/New_York:20230609T130000
DTEND;TZID=America/New_York:20230609T143000
DTSTAMP:20260422T205557
CREATED:20230426T150843Z
LAST-MODIFIED:20230517T180246Z
UID:10000286-1686315600-1686321000@barnstormerwinery.com
SUMMARY:Winemaker Vineyard Tour & Tasting
DESCRIPTION:Join us for the months of June & July for our annual Vineyard Tours on Fridays from 1pm – 230pm. These tours will be led by the winemaker\, Taylor\, or a knowledgable member of our winery team. These educational tours will include a 30 minute tour of our vineyard\, along with a few samples of wine on the walking portion of the tour (please wear comfortable shoes). On rainy days\, we will handle this portion of the tour in our wine production cellar. \nAfterwards\, you will be seated (either indoors or outdoors\, weather dependent) for a 45 minute – 1 hour wine tasting of 5-6 wines\, paired with our farmed & foraged pairing board for light bites\, featuring a variety of locally sourced cheese\, charcuterie\, pickles/fermented goods and crackers. These Winemaker Vineyard Tour & Tastings are a great way to learn more about the grape growing in the Finger Lakes\, along with our vision here at Barnstormer Winery. \n21+ over. No pets. These are walking tours so please plan accordingly! Wine Club Members will receive a couple complimentary reserve wine pours throughout the experience. We cap these tours to 8 guests in total. You are welcome to book out the entire tour to make it a private experience. \nPlease call 607-243-4008 with questions\, or simply book your tickets below! Tickets are $45/pp which includes tax and fees.
URL:https://barnstormerwinery.com/event/winemaker-vineyard-tour-tasting-13/
LOCATION:Barnstormer Winery\, 4184 New York 14\, Rock Stream\, NY\, 14878\, United States
CATEGORIES:Ticketed Events at Barnstormer
ATTACH;FMTTYPE=image/jpeg:https://barnstormerwinery.com/wp-content/uploads/2022/09/QRS_1035.jpg
END:VEVENT
BEGIN:VEVENT
DTSTART;TZID=America/New_York:20230613T170000
DTEND;TZID=America/New_York:20230613T200000
DTSTAMP:20260422T205557
CREATED:20230418T173708Z
LAST-MODIFIED:20230612T174237Z
UID:10000272-1686675600-1686686400@barnstormerwinery.com
SUMMARY:Summer Happy Hour\, Live Music & Caterer Series!
DESCRIPTION:Join us at Barnstormer Winery this summer on Tuesday evenings from 5pm – 8pm\, for our ninth annual Happy Hour\, Live Music & Caterer series! Running June\, July\, August and briefly into September\, we feature musicians who write and perform all original music. Enjoy Barnstormer wine\, local beer and craft cocktails\, along with locally sourced & seasonally fresh pop-up catering menus each week by our good friends at Dean Lane Catering.\n\n\n\nAppetizer \nCrispy Pork Wontons- Sweet Thai Chili           6/$5 \nPick One Meat \nCarolina Style Pulled Pork (GF)                   $17 \nSliced Smoked Beef Brisket\, A ‘Jus (GF)    $18 \nCornell BBQ Chicken Leg Quarters (GF)    $15 \nBroccoli Fritters\, chipotle aioli (v)               $16 \nPick 2 Sides \nGrilled Green Beans with Lemon and Garlic (GF)(VG) \nWilted Swiss Chard (GF)(VG) \nMustard/ Vinegar Style Coleslaw (GF)(v) \nBacon Baked Beans \nHand Cut Fries (v)(GF) \nMacaroni and Cheese (v) \n\n\nNo Cover and Family Friendly for our Tuesday Happy Hours! Seating is based on a first come first served basis\, with large group reservations being the exception if you have 8 or more and call in advance\, to reserve one of our three cabanas for your group to guarantee seatings.\nLocal musicians performing all original music!\n\nOur Flight Bar will be open on sunny summer days. Is there is rain on the forecast\, we will host these events indoors.\n\nJune 6th: Ryan Sutherland\nJune 13th: Mike Lucey\nJune 20th: River Lynch\nJune 27th: Charlie Reitz\nJuly 4th: Adam Guinn\nJuly 11th: Joe Kaplan\nJuly 18th: Freight\nJuly 25th: Scott Tremolo\nAugust 1st: Louiston\nAugust 8th: Rena Guinn\nAugust 15th: Jacob Shipley\nAugust 22nd: Joe Lule\nAugust 29th: Laura Thurston\nSeptember 5th: John Horne\n\nSeptember 10th (Sunday): 1PM – 10PM. Ten Year Anniversary Celebration! Dean Lane Catering from 1pm – 8pm. Rachel Beverly (130-330p)\, Joe Lule & Rena Guinn (4-630p)\, Cast Iron Cowboys (7-930p). Tickets available through our website events tab\, including VIP tickets.\nhttps://barnstormerwinery.com/…/barnstormer-10-year…/\n\nParking fills up fast so try and carpool as well.\nDon’t miss it!\n\nHave a larger group (8 or more) and want to reserve one of our three cabanas? Please give us a call in advance at 607-243-4008. These events are typically held outside on the winery grounds and they will run rain or shine!\n\nFamily friendly. Dog friendly. Bring your picnic blankets and lawn chairs as well if you’d like!\n\nWe can’t wait to kick these off!
URL:https://barnstormerwinery.com/event/summer-happy-hour-live-music-caterer-series/
LOCATION:Barnstormer Winery\, 4184 New York 14\, Rock Stream\, NY\, 14878\, United States
CATEGORIES:Free Events at Barnstormer
ATTACH;FMTTYPE=image/jpeg:https://barnstormerwinery.com/wp-content/uploads/2023/04/Summer-Concert-Series-Flyer-Updated.jpg
END:VEVENT
BEGIN:VEVENT
DTSTART;TZID=America/New_York:20230616T130000
DTEND;TZID=America/New_York:20230616T143000
DTSTAMP:20260422T205557
CREATED:20230426T151448Z
LAST-MODIFIED:20230517T180217Z
UID:10000287-1686920400-1686925800@barnstormerwinery.com
SUMMARY:Winemaker Vineyard Tour & Tasting
DESCRIPTION:Join us for the months of June & July for our annual Vineyard Tours on Fridays from 1pm – 230pm. These tours will be led by the winemaker\, Taylor\, or a knowledgable member of our winery team. These educational tours will include a 30 minute tour of our vineyard\, along with a few samples of wine on the walking portion of the tour (please wear comfortable shoes). On rainy days\, we will handle this portion of the tour in our wine production cellar. \nAfterwards\, you will be seated (either indoors or outdoors\, weather dependent) for a 45 minute – 1 hour wine tasting of 5-6 wines\, paired with our farmed & foraged pairing board for light bites\, featuring a variety of locally sourced cheese\, charcuterie\, pickles/fermented goods and crackers. These Winemaker Vineyard Tour & Tastings are a great way to learn more about the grape growing in the Finger Lakes\, along with our vision here at Barnstormer Winery. \n21+ over. No pets. These are walking tours so please plan accordingly! Wine Club Members will receive a couple complimentary reserve wine pours throughout the experience. We cap these tours to 8 guests in total. You are welcome to book out the entire tour to make it a private experience. \nPlease call 607-243-4008 with questions\, or simply book your tickets below! Tickets are $45/pp which includes tax and fees.
URL:https://barnstormerwinery.com/event/winemaker-vineyard-tour-tasting-14/
LOCATION:Barnstormer Winery\, 4184 New York 14\, Rock Stream\, NY\, 14878\, United States
CATEGORIES:Ticketed Events at Barnstormer
ATTACH;FMTTYPE=image/jpeg:https://barnstormerwinery.com/wp-content/uploads/2022/09/QRS_1035.jpg
END:VEVENT
BEGIN:VEVENT
DTSTART;TZID=America/New_York:20230618T180000
DTEND;TZID=America/New_York:20230618T203000
DTSTAMP:20260422T205557
CREATED:20230306T165421Z
LAST-MODIFIED:20230616T174911Z
UID:10000269-1687111200-1687120200@barnstormerwinery.com
SUMMARY:Farmed & Foraged Wine Pairing Dinner #1 - Dean Lane Catering
DESCRIPTION:TICKETS ARE STILL AVAILABLE. Join us for our ninth season of our Farmed & Foraged Wine Pairing Dinners featuring local chefs (Dean Lane Catering for both June & August) using the rich culinary bounty of the Finger Lakes\, paired artfully with Barnstormer Wines. These events will be hosted at the Dean Lane Farm\, located at 1100 Dean Ln\, Dundee\, NY 14837. \nTickets are $120 – please contact Dean Lane Directly. Tickets are still available! Just not through our website. \n  \nCourse 1- Farmer’s Board  \nLocal Cheese\, Cured Meats\, Seasonal Goodies \nCourse 2- Butter Poached Lobster \nOven Dried Tomatoes\, Greens\, Champagne Vinaigrette \nVegetarian Option- Falafel\, tzatziki\, cumin carrot \nCourse 3- Filet Mignon \nWild mushrooms\, Parmesan Whipped Potatoes\, Chive Oil \nVegetarian Option- Confit Beets\, Parmesan Whipped Potatoes\, Chive Oil \nCourse 4- Strawberry Layer Cake \nVanilla Cake\, Strawberry Cream Cheese Frosting\, Macerated Strawberries \n  \nHosted on June 18th & August 20th from 6PM – 830PM. Four courses artfully paired with six Barnstormer wines. $120/pp. For tickets\, please RSVP or book directly with Dean Lane. \nWine pairings presented the evening of. They are capping these dinners to 24 guests. 21+ only!
URL:https://barnstormerwinery.com/event/farmed-foraged-dinner-1-dean-lane-catering/
LOCATION:Dean Lane B&B\, 1100 Dean Ln\, Dundee\, 14837\, United States
CATEGORIES:Events in FLX
END:VEVENT
BEGIN:VEVENT
DTSTART;TZID=America/New_York:20230620T170000
DTEND;TZID=America/New_York:20230620T200000
DTSTAMP:20260422T205557
CREATED:20230418T173900Z
LAST-MODIFIED:20230616T164727Z
UID:10000273-1687280400-1687291200@barnstormerwinery.com
SUMMARY:Summer Happy Hour\, Live Music & Caterer Series
DESCRIPTION:Join us at Barnstormer Winery this summer on Tuesday evenings from 5pm – 8pm\, for our ninth annual Happy Hour\, Live Music & Caterer series! Running June\, July\, August and briefly into September\, we feature musicians who write and perform all original music. Enjoy Barnstormer wine\, local beer and craft cocktails\, along with locally sourced & seasonally fresh pop-up catering menus each week by our good friends at Dean Lane Catering.\n\n\n\n\nMENU \nSandwiches \nserved with hand cut fries or Caesar salad \n\nCaesar Salad $11\nHouse dressing\, garlic croutons\nAdd grilled chicken +$6 \nChicken Parmesan Sandwich $16\nHouse red sauce\, fresh mozzarella\, dressed romaine \nFried Chicken Sandwich $17\nBacon\, Hot Honey\, dressed romaine \nCheesesteak Sandwich $18\nCheddar cheese sauce\, caramelized onions \nGrilled Chicken Sandwich $17\nAvocado\, pickled red onions\, chipotle aioli \nHouse Veggie Burger $16\nCaramelized onions\, chipotle aioli \nPulled Pork Sandwich $15\nBBQ sauce\, Carolina coleslaw \n\n\nNo Cover and Family Friendly for our Tuesday Happy Hours! Seating is based on a first come first served basis\, with large group reservations being the exception if you have 8 or more and call in advance\, to reserve one of our three cabanas for your group to guarantee seatings.\nLocal musicians performing all original music!\n\nOur Flight Bar will be open on sunny summer days. Is there is rain on the forecast\, we will host these events indoors.\n\nJune 6th: Ryan Sutherland\nJune 13th: Mike Lucey\nJune 20th: River Lynch\nJune 27th: Charlie Reitz\nJuly 4th: Adam Guinn\nJuly 11th: Joe Kaplan\nJuly 18th: Freight\nJuly 25th: Scott Tremolo\nAugust 1st: Louiston\nAugust 8th: Rena Guinn\nAugust 15th: Jacob Shipley\nAugust 22nd: Joe Lule\nAugust 29th: Laura Thurston\nSeptember 5th: John Horne\n\nSeptember 10th (Sunday): 1PM – 10PM. Ten Year Anniversary Celebration! Dean Lane Catering from 1pm – 8pm. Rachel Beverly (130-330p)\, Joe Lule & Rena Guinn (4-630p)\, Cast Iron Cowboys (7-930p). Tickets available through our website events tab\, including VIP tickets.\nhttps://barnstormerwinery.com/…/barnstormer-10-year…/\n\nParking fills up fast so try and carpool as well.\nDon’t miss it!\n\nHave a larger group (8 or more) and want to reserve one of our three cabanas? Please give us a call in advance at 607-243-4008. These events are typically held outside on the winery grounds and they will run rain or shine!\n\nFamily friendly. Dog friendly. Bring your picnic blankets and lawn chairs as well if you’d like!\n\nWe can’t wait to kick these off!
URL:https://barnstormerwinery.com/event/summer-happy-hour-live-music-caterer-series-2/
LOCATION:Barnstormer Winery\, 4184 New York 14\, Rock Stream\, NY\, 14878\, United States
CATEGORIES:Free Events at Barnstormer
ATTACH;FMTTYPE=image/jpeg:https://barnstormerwinery.com/wp-content/uploads/2023/04/Summer-Concert-Series-Flyer-Updated.jpg
END:VEVENT
BEGIN:VEVENT
DTSTART;TZID=America/New_York:20230623T130000
DTEND;TZID=America/New_York:20230623T143000
DTSTAMP:20260422T205557
CREATED:20230426T151642Z
LAST-MODIFIED:20230517T180152Z
UID:10000288-1687525200-1687530600@barnstormerwinery.com
SUMMARY:Winemaker Vineyard Tour & Tasting
DESCRIPTION:Join us for the months of June & July for our annual Vineyard Tours on Fridays from 1pm – 230pm. These tours will be led by the winemaker\, Taylor\, or a knowledgable member of our winery team. These educational tours will include a 30 minute tour of our vineyard\, along with a few samples of wine on the walking portion of the tour (please wear comfortable shoes). On rainy days\, we will handle this portion of the tour in our wine production cellar. \nAfterwards\, you will be seated (either indoors or outdoors\, weather dependent) for a 45 minute – 1 hour wine tasting of 5-6 wines\, paired with our farmed & foraged pairing board for light bites\, featuring a variety of locally sourced cheese\, charcuterie\, pickles/fermented goods and crackers. These Winemaker Vineyard Tour & Tastings are a great way to learn more about the grape growing in the Finger Lakes\, along with our vision here at Barnstormer Winery. \n21+ over. No pets. These are walking tours so please plan accordingly! Wine Club Members will receive a couple complimentary reserve wine pours throughout the experience. We cap these tours to 8 guests in total. You are welcome to book out the entire tour to make it a private experience. \nPlease call 607-243-4008 with questions\, or simply book your tickets below! Tickets are $45/pp which includes tax and fees.
URL:https://barnstormerwinery.com/event/winemaker-vineyard-tour-tasting-15/
LOCATION:Barnstormer Winery\, 4184 New York 14\, Rock Stream\, NY\, 14878\, United States
CATEGORIES:Ticketed Events at Barnstormer
ATTACH;FMTTYPE=image/jpeg:https://barnstormerwinery.com/wp-content/uploads/2022/09/QRS_1035.jpg
END:VEVENT
BEGIN:VEVENT
DTSTART;TZID=America/New_York:20230627T170000
DTEND;TZID=America/New_York:20230627T200000
DTSTAMP:20260422T205557
CREATED:20230418T174040Z
LAST-MODIFIED:20230626T151054Z
UID:10000274-1687885200-1687896000@barnstormerwinery.com
SUMMARY:Summer Happy Hour\, Live Music & Caterer Series
DESCRIPTION:Join us at Barnstormer Winery this summer on Tuesday evenings from 5pm – 8pm\, for our ninth annual Happy Hour\, Live Music & Caterer series! Running June\, July\, August and briefly into September\, we feature musicians who write and perform all original music. Enjoy Barnstormer wine\, local beer and craft cocktails\, along with locally sourced & seasonally fresh pop-up catering menus each week by our good friends at Dean Lane Catering. \n\n\nBurger & Sandwich Menu\nserved with hand cut fries or Caesar salad\nCaesar Salad $11\nHouse dressing\, garlic croutons\nAdd grilled chicken +$6 \nDean Farm’s Cheeseburger $17\nCheddar\, Lettuce\, Tomato \nChicken Parmesan Sandwich $16\nHouse red sauce\, fresh mozzarella\, dressed romaine \nFried Chicken Sandwich $17\nBacon\, Hot Honey\, dressed romaine \nCheesesteak Sandwich $18\nCheddar cheese sauce\, caramelized onions \nGrilled Chicken Sandwich $17\nAvocado\, pickled red onions\, chipotle aioli \nHouse Veggie Burger $16\nCaramelized onions\, chipotle aioli \n\n  \nNo Cover and Family Friendly for our Tuesday Happy Hours! Seating is based on a first come first served basis\, with large group reservations being the exception if you have 8 or more and call in advance\, to reserve one of our three cabanas for your group to guarantee seatings.\nLocal musicians performing all original music!\n\nOur Flight Bar will be open on sunny summer days. Is there is rain on the forecast\, we will host these events indoors.\n\nJune 6th: Ryan Sutherland\nJune 13th: Mike Lucey\nJune 20th: River Lynch\nJune 27th: Charlie Reitz\nJuly 4th: Adam Guinn\nJuly 11th: Joe Kaplan\nJuly 18th: Freight\nJuly 25th: Scott Tremolo\nAugust 1st: Louiston\nAugust 8th: Rena Guinn\nAugust 15th: Jacob Shipley\nAugust 22nd: Joe Lule\nAugust 29th: Laura Thurston\nSeptember 5th: John Horne\n\nSeptember 10th (Sunday): 1PM – 10PM. Ten Year Anniversary Celebration! Dean Lane Catering from 1pm – 8pm. Rachel Beverly (130-330p)\, Joe Lule & Rena Guinn (4-630p)\, Cast Iron Cowboys (7-930p). Tickets available through our website events tab\, including VIP tickets.\nhttps://barnstormerwinery.com/…/barnstormer-10-year…/\n\nParking fills up fast so try and carpool as well.\nDon’t miss it!\n\nHave a larger group (8 or more) and want to reserve one of our three cabanas? Please give us a call in advance at 607-243-4008. These events are typically held outside on the winery grounds and they will run rain or shine!\n\nFamily friendly. Dog friendly. Bring your picnic blankets and lawn chairs as well if you’d like!\n\nWe can’t wait to kick these off!
URL:https://barnstormerwinery.com/event/summer-happy-hour-live-music-caterer-series-3/
LOCATION:Barnstormer Winery\, 4184 New York 14\, Rock Stream\, NY\, 14878\, United States
CATEGORIES:Free Events at Barnstormer
ATTACH;FMTTYPE=image/jpeg:https://barnstormerwinery.com/wp-content/uploads/2023/04/Summer-Concert-Series-Flyer-Updated.jpg
END:VEVENT
BEGIN:VEVENT
DTSTART;TZID=America/New_York:20230630T130000
DTEND;TZID=America/New_York:20230630T143000
DTSTAMP:20260422T205557
CREATED:20230426T152011Z
LAST-MODIFIED:20230517T180126Z
UID:10000289-1688130000-1688135400@barnstormerwinery.com
SUMMARY:Winemaker Vineyard Tour & Tasting
DESCRIPTION:Join us for the months of June & July for our annual Vineyard Tours on Fridays from 1pm – 230pm. These tours will be led by the winemaker\, Taylor\, or a knowledgable member of our winery team. These educational tours will include a 30 minute tour of our vineyard\, along with a few samples of wine on the walking portion of the tour (please wear comfortable shoes). On rainy days\, we will handle this portion of the tour in our wine production cellar. \nAfterwards\, you will be seated (either indoors or outdoors\, weather dependent) for a 45 minute – 1 hour wine tasting of 5-6 wines\, paired with our farmed & foraged pairing board for light bites\, featuring a variety of locally sourced cheese\, charcuterie\, pickles/fermented goods and crackers. These Winemaker Vineyard Tour & Tastings are a great way to learn more about the grape growing in the Finger Lakes\, along with our vision here at Barnstormer Winery. \n21+ over. No pets. These are walking tours so please plan accordingly! Wine Club Members will receive a couple complimentary reserve wine pours throughout the experience. We cap these tours to 8 guests in total. You are welcome to book out the entire tour to make it a private experience. \nPlease call 607-243-4008 with questions\, or simply book your tickets below! Tickets are $45/pp which includes tax and fees.
URL:https://barnstormerwinery.com/event/winemaker-vineyard-tour-tasting-16/
LOCATION:Barnstormer Winery\, 4184 New York 14\, Rock Stream\, NY\, 14878\, United States
CATEGORIES:Ticketed Events at Barnstormer
ATTACH;FMTTYPE=image/jpeg:https://barnstormerwinery.com/wp-content/uploads/2022/09/QRS_1035.jpg
END:VEVENT
END:VCALENDAR