BEGIN:VCALENDAR
VERSION:2.0
PRODID:-//Barnstormer Winery - ECPv6.15.16//NONSGML v1.0//EN
CALSCALE:GREGORIAN
METHOD:PUBLISH
X-WR-CALNAME:Barnstormer Winery
X-ORIGINAL-URL:https://barnstormerwinery.com
X-WR-CALDESC:Events for Barnstormer Winery
REFRESH-INTERVAL;VALUE=DURATION:PT1H
X-Robots-Tag:noindex
X-PUBLISHED-TTL:PT1H
BEGIN:VTIMEZONE
TZID:America/New_York
BEGIN:DAYLIGHT
TZOFFSETFROM:-0500
TZOFFSETTO:-0400
TZNAME:EDT
DTSTART:20220313T070000
END:DAYLIGHT
BEGIN:STANDARD
TZOFFSETFROM:-0400
TZOFFSETTO:-0500
TZNAME:EST
DTSTART:20221106T060000
END:STANDARD
BEGIN:DAYLIGHT
TZOFFSETFROM:-0500
TZOFFSETTO:-0400
TZNAME:EDT
DTSTART:20230312T070000
END:DAYLIGHT
BEGIN:STANDARD
TZOFFSETFROM:-0400
TZOFFSETTO:-0500
TZNAME:EST
DTSTART:20231105T060000
END:STANDARD
BEGIN:DAYLIGHT
TZOFFSETFROM:-0500
TZOFFSETTO:-0400
TZNAME:EDT
DTSTART:20240310T070000
END:DAYLIGHT
BEGIN:STANDARD
TZOFFSETFROM:-0400
TZOFFSETTO:-0500
TZNAME:EST
DTSTART:20241103T060000
END:STANDARD
END:VTIMEZONE
BEGIN:VEVENT
DTSTART;TZID=America/New_York:20230704T170000
DTEND;TZID=America/New_York:20230704T200000
DTSTAMP:20260422T142133
CREATED:20230426T143633Z
LAST-MODIFIED:20230703T150508Z
UID:10000275-1688490000-1688500800@barnstormerwinery.com
SUMMARY:Summer Happy Hour\, Live Music & Caterer Series!
DESCRIPTION:Join us at Barnstormer Winery this summer on Tuesday evenings from 5pm – 8pm\, for our ninth annual Happy Hour\, Live Music & Caterer series! Running June\, July\, August and briefly into September\, we feature musicians who write and perform all original music. Enjoy Barnstormer wine\, local beer and craft cocktails\, along with locally sourced & seasonally fresh pop-up catering menus each week by our good friends at DEAN LANE CATERING.\n\n\nJuly 4th Menu!\n\n\nSmall Plates \n\nHummus and Hot Pita Chips (v)        $7\n\nHouse Made Hummus\, Fried Pita \n\n\nFalafel with Tzatziki (v) $8\n\nRed pepper coulis \n\nLarge Plates- all Gyros served with hand cut fries- add feta +$2 \n\n\nChicken Gyro $15\n\nGrilled Chicken with pickled red onions\, tomatoes\, lettuce \n\n\nShrimp Gyro $16\n\nGrilled Shrimp with pickled red onions\, tomatoes\, lettuce \n\n\nSteak Gyro $16\n\nGrilled Flank Steak with pickled red onions\, tomatoes\, lettuce \n\n\nGreek Salad (v) $10\n\nHydroponic greens\, Kalamata Olives\, Pickled Red Onions\, Feta\, Hummus Vinaigrette \nAdd- Chicken +$5   Steak or Shrimp +$7 \n  \n\n\nNo Cover and Family Friendly for our Tuesday Happy Hours! Seating is based on a first come first served basis\, with large group reservations being the exception if you have 8 or more and call in advance\, to reserve one of our three cabanas for your group to guarantee seatings.\nLocal musicians performing all original music!\n\nOur Flight Bar will be open on sunny summer days. Is there is rain on the forecast\, we will host these events indoors.\n\nJune 6th: Ryan Sutherland\nJune 13th: Mike Lucey\nJune 20th: River Lynch\nJune 27th: Charlie Reitz\nJuly 4th: Adam Guinn\nJuly 11th: Joe Kaplan\nJuly 18th: Freight\nJuly 25th: Scott Tremolo\nAugust 1st: Louiston\nAugust 8th: Rena Guinn\nAugust 15th: Jacob Shipley\nAugust 22nd: Joe Lule\nAugust 29th: Laura Thurston\nSeptember 5th: John Horne\n\nSeptember 10th (Sunday): 1PM – 10PM. Ten Year Anniversary Celebration! Dean Lane Catering from 1pm – 8pm. Rachel Beverly (130-330p)\, Joe Lule & Rena Guinn (4-630p)\, Cast Iron Cowboys (7-930p). Tickets available through our website events tab\, including VIP tickets.\nHTTPS://BARNSTORMERWINERY.COM/…/BARNSTORMER-10-YEAR…/\n\nParking fills up fast so try and carpool as well.\nDon’t miss it!\n\nHave a larger group (8 or more) and want to reserve one of our three cabanas? Please give us a call in advance at 607-243-4008. These events are typically held outside on the winery grounds and they will run rain or shine!\n\nFamily friendly. Dog friendly. Bring your picnic blankets and lawn chairs as well if you’d like!\n\nHappy 4th!
URL:https://barnstormerwinery.com/event/summer-happy-hour-live-music-caterer-series-4/
LOCATION:Barnstormer Winery\, 4184 New York 14\, Rock Stream\, NY\, 14878\, United States
CATEGORIES:Free Events at Barnstormer
ATTACH;FMTTYPE=image/jpeg:https://barnstormerwinery.com/wp-content/uploads/2023/04/Summer-Concert-Series-Flyer-Updated.jpg
END:VEVENT
BEGIN:VEVENT
DTSTART;TZID=America/New_York:20230711T170000
DTEND;TZID=America/New_York:20230711T200000
DTSTAMP:20260422T142133
CREATED:20230426T143821Z
LAST-MODIFIED:20230710T182248Z
UID:10000276-1689094800-1689105600@barnstormerwinery.com
SUMMARY:Summer Happy Hour\, Live Music & Caterer Series!
DESCRIPTION:Join us at Barnstormer Winery this summer on Tuesday evenings from 5pm – 8pm\, for our ninth annual Happy Hour\, Live Music & Caterer series! Running June\, July\, August and briefly into September\, we feature musicians who write and perform all original music. Enjoy Barnstormer wine\, local beer and craft cocktails\, along with locally sourced & seasonally fresh pop-up catering menus each week by our good friends at DEAN LANE CATERING.\n\n\nBar-B-QUE Menu 7.11.23 \nPick One Meat \nCarolina Style Pulled Pork (GF) $17 \nSliced Smoked Beef Brisket\, A ‘Jus (GF) $18 \nCornell BBQ Chicken Leg Quarters (GF) $15 \nKorean Pork Belly Burnt Ends $17 \nBlack Eye Pea Fritter\, chipotle aioli (v) $16 \nPick 2 Sides \nGrilled Green Beans with Lemon and Garlic (GF)(VG) \nDilly Beans (GF)(VG) \nMustard/ Vinegar Style Coleslaw (GF)(v) \nBacon Baked Beans \nHand Cut Fries (v)(GF) \nMacaroni and Cheese (v) \n\n\nNo Cover and Family Friendly for our Tuesday Happy Hours! Seating is based on a first come first served basis\, with large group reservations being the exception if you have 8 or more and call in advance\, to reserve one of our three cabanas for your group to guarantee seatings.\nLocal musicians performing all original music!\n\nOur Flight Bar will be open on sunny summer days. Is there is rain on the forecast\, we will host these events indoors.\n\nJune 6th: Ryan Sutherland\nJune 13th: Mike Lucey\nJune 20th: River Lynch\nJune 27th: Charlie Reitz\nJuly 4th: Adam Guinn\nJuly 11th: Joe Kaplan\nJuly 18th: Freight\nJuly 25th: Scott Tremolo\nAugust 1st: Louiston\nAugust 8th: Rena Guinn\nAugust 15th: Jacob Shipley\nAugust 22nd: Joe Lule\nAugust 29th: Laura Thurston\nSeptember 5th: John Horne\n\nSeptember 10th (Sunday): 1PM – 10PM. Ten Year Anniversary Celebration! Dean Lane Catering from 1pm – 8pm. Rachel Beverly (130-330p)\, Joe Lule & Rena Guinn (4-630p)\, Cast Iron Cowboys (7-930p). Tickets available through our website events tab\, including VIP tickets.\nHTTPS://BARNSTORMERWINERY.COM/…/BARNSTORMER-10-YEAR…/\n\nParking fills up fast so try and carpool as well.\nDon’t miss it!\n\nHave a larger group (8 or more) and want to reserve one of our three cabanas? Please give us a call in advance at 607-243-4008. These events are typically held outside on the winery grounds and they will run rain or shine!\n\nFamily friendly. Dog friendly. Bring your picnic blankets and lawn chairs as well if you’d like!\n\nWe look forward to seeing you!
URL:https://barnstormerwinery.com/event/summer-happy-hour-live-music-caterer-series-5/
LOCATION:Barnstormer Winery\, 4184 New York 14\, Rock Stream\, NY\, 14878\, United States
CATEGORIES:Free Events at Barnstormer
ATTACH;FMTTYPE=image/jpeg:https://barnstormerwinery.com/wp-content/uploads/2023/04/Summer-Concert-Series-Flyer-Updated.jpg
END:VEVENT
BEGIN:VEVENT
DTSTART;TZID=America/New_York:20230716T110000
DTEND;TZID=America/New_York:20230716T160000
DTSTAMP:20260422T142133
CREATED:20230712T172518Z
LAST-MODIFIED:20230712T173138Z
UID:10000294-1689505200-1689523200@barnstormerwinery.com
SUMMARY:Frequent Flyer's Case Club BBQ
DESCRIPTION:Are you a Barnstormer Winery case club member? You most certainly are if you have purchased a case of wine with us in the past year at 10% off. When you come to renew your case purchase within a year\, you’ll get 15% off\, along with two complimentary wine tastings during your visit. \nJoin us this Sunday from 11am – 4pm for a complimentary BBQ pairing\, along with a tasting of a few select wines outside at our Flight Bar on the house. This is a great opportunity to renew your case club membership (complimentary with a case purchase). Want to bring additional guests? Please let our Wine Club Manager\, Kelly\, know in advance with your RSVP. Additional tickets will be $27/pp plus tax\, which will include the wine and food pairing. \nWe can’t wait to see you all! \nRSVP today!
URL:https://barnstormerwinery.com/event/frequent-flyers-case-club-bbq/
LOCATION:Barnstormer Winery\, 4184 New York 14\, Rock Stream\, NY\, 14878\, United States
CATEGORIES:Free Events at Barnstormer
ATTACH;FMTTYPE=image/jpeg:https://barnstormerwinery.com/wp-content/uploads/2022/09/DJI_0926.jpg
END:VEVENT
BEGIN:VEVENT
DTSTART;TZID=America/New_York:20230718T170000
DTEND;TZID=America/New_York:20230718T200000
DTSTAMP:20260422T142133
CREATED:20230426T144028Z
LAST-MODIFIED:20230717T155450Z
UID:10000277-1689699600-1689710400@barnstormerwinery.com
SUMMARY:Summer Happy Hour\, Live Music & Caterer Series!
DESCRIPTION:Join us at Barnstormer Winery this summer on Tuesday evenings from 5pm – 8pm\, for our ninth annual Happy Hour\, Live Music & Caterer series! Running June\, July\, August and briefly into September\, we feature musicians who write and perform all original music. Enjoy Barnstormer wine\, local beer and craft cocktails\, along with locally sourced & seasonally fresh pop-up catering menus each week by our good friends at DEAN LANE CATERING.\n\n\n\nAsian Style Menu 7.18.23 \n  \nAppetizers \nSeared Ahi Tuna $9 \nSashimi grade tuna\, napa cabbage slaw\, spicy sauce \nChinese BBQ Spare Ribs 4/$12 \nNapa Cabbage Slaw \nEdamame and Black Truffle Dumplings 5/$8 \nSweet Thai Chili Sauce \n  \nEntrees \nMongolian Beef $17 \nThinly Sliced Beef with Dark Sauce and Scallions\, Served over Fried Rice   \nGeneral Tso’s Chicken w Broccoli $16 \nSweet and Spicy\, Served over Fried Rice   \nHoney Chicken w Broccoli $16 \nSweet and Tangy\, Served over Fried Rice    \nKung Pao Shrimp $17 \nPeanuts and Scallions\, Served over Fried Rice \nVeggie Lo Mein $15 \nSteamed Broccoli\, fresh veggies \n\n\nNo Cover and Family Friendly for our Tuesday Happy Hours! Seating is based on a first come first served basis\, with large group reservations being the exception if you have 8 or more and call in advance\, to reserve one of our three cabanas for your group to guarantee seatings.\nLocal musicians performing all original music!\n\nOur Flight Bar will be open on sunny summer days. Is there is rain on the forecast\, we will host these events indoors.\n\nJune 6th: Ryan Sutherland\nJune 13th: Mike Lucey\nJune 20th: River Lynch\nJune 27th: Charlie Reitz\nJuly 4th: Adam Guinn\nJuly 11th: Joe Kaplan\nJuly 18th: Freight\nJuly 25th: Scott Tremolo\nAugust 1st: Louiston\nAugust 8th: Rena Guinn\nAugust 15th: Jacob Shipley\nAugust 22nd: Joe Lule\nAugust 29th: Laura Thurston\nSeptember 5th: John Horne\n\nSeptember 10th (Sunday): 1PM – 10PM. Ten Year Anniversary Celebration! Dean Lane Catering from 1pm – 8pm. Rachel Beverly (130-330p)\, Joe Lule & Rena Guinn (4-630p)\, Cast Iron Cowboys (7-930p). Tickets available through our website events tab\, including VIP tickets.\nHTTPS://BARNSTORMERWINERY.COM/…/BARNSTORMER-10-YEAR…/\n\nParking fills up fast so try and carpool as well.\nDon’t miss it!\n\nHave a larger group (8 or more) and want to reserve one of our three cabanas? Please give us a call in advance at 607-243-4008. These events are typically held outside on the winery grounds and they will run rain or shine!\n\nFamily friendly. Dog friendly. Bring your picnic blankets and lawn chairs as well if you’d like!\n\nWe can’t wait to kick these off!
URL:https://barnstormerwinery.com/event/summer-happy-hour-live-music-caterer-series-6/
LOCATION:Barnstormer Winery\, 4184 New York 14\, Rock Stream\, NY\, 14878\, United States
CATEGORIES:Free Events at Barnstormer
ATTACH;FMTTYPE=image/jpeg:https://barnstormerwinery.com/wp-content/uploads/2023/04/Summer-Concert-Series-Flyer-Updated.jpg
END:VEVENT
BEGIN:VEVENT
DTSTART;TZID=America/New_York:20230725T170000
DTEND;TZID=America/New_York:20230725T200000
DTSTAMP:20260422T142133
CREATED:20230426T144140Z
LAST-MODIFIED:20230724T140442Z
UID:10000278-1690304400-1690315200@barnstormerwinery.com
SUMMARY:Summer Happy Hour\, Live Music & Caterer Series!
DESCRIPTION:Join us at Barnstormer Winery this summer on Tuesday evenings from 5pm – 8pm\, for our ninth annual Happy Hour\, Live Music & Caterer series! Running June\, July\, August and briefly into September\, we feature musicians who write and perform all original music. Enjoy Barnstormer wine\, local beer and craft cocktails\, along with locally sourced & seasonally fresh pop-up catering menus each week by our good friends at DEAN LANE CATERING.\n\n\nBurgers & Sandwiches Menu 7.25.23 \nserved with hand cut fries or Caesar salad \n\nCaesar Salad $11\n\nHouse dressing\, garlic croutons \nAdd grilled chicken +$6 \n\nDean Farm’s Cheeseburger $17\n\nCheddar\, Lettuce\, Tomato\, Roasted Garlic Aioli \n\nChicken Parmesan Sandwich $16\n\nHouse red sauce\, fresh mozzarella\, dressed arugula \n\nFried Chicken Sandwich $17\n\nBacon\, Hot Honey\, dressed arugula \n\nCheesesteak Sandwich $18\n\nCheddar cheese sauce\, caramelized onions \n\nPork Belly Burnt Ends Sandwich $18\n\nBBQ Sauce\, dressed arugula \n\nGrilled Chicken Sandwich $17\n\nGuacamole\, pickled red onions\, chipotle aioli \n\nHouse Veggie Burger $16\n\nCaramelized onions\, chipotle aioli \n\n\nNo Cover and Family Friendly for our Tuesday Happy Hours! Seating is based on a first come first served basis\, with large group reservations being the exception if you have 8 or more and call in advance\, to reserve one of our three cabanas for your group to guarantee seatings.\nLocal musicians performing all original music!\n\nOur Flight Bar will be open on sunny summer days. Is there is rain on the forecast\, we will host these events indoors.\n\nJune 6th: Ryan Sutherland\nJune 13th: Mike Lucey\nJune 20th: River Lynch\nJune 27th: Charlie Reitz\nJuly 4th: Adam Guinn\nJuly 11th: Joe Kaplan\nJuly 18th: Freight\nJuly 25th: Scott Tremolo\nAugust 1st: Louiston\nAugust 8th: Rena Guinn\nAugust 15th: Jacob Shipley\nAugust 22nd: Joe Lule\nAugust 29th: Laura Thurston\nSeptember 5th: John Horne\n\nSeptember 10th (Sunday): 1PM – 10PM. Ten Year Anniversary Celebration! Dean Lane Catering from 1pm – 8pm. Rachel Beverly (130-330p)\, Joe Lule & Rena Guinn (4-630p)\, Cast Iron Cowboys (7-930p). Tickets available through our website events tab\, including VIP tickets.\nHTTPS://BARNSTORMERWINERY.COM/…/BARNSTORMER-10-YEAR…/\n\nParking fills up fast so try and carpool as well.\nDon’t miss it!\n\nHave a larger group (8 or more) and want to reserve one of our three cabanas? Please give us a call in advance at 607-243-4008. These events are typically held outside on the winery grounds and they will run rain or shine!\n\nFamily friendly. Dog friendly. Bring your picnic blankets and lawn chairs as well if you’d like!\n\nWe can’t wait to kick these off!
URL:https://barnstormerwinery.com/event/summer-happy-hour-live-music-caterer-series-7/
LOCATION:Barnstormer Winery\, 4184 New York 14\, Rock Stream\, NY\, 14878\, United States
CATEGORIES:Free Events at Barnstormer
ATTACH;FMTTYPE=image/jpeg:https://barnstormerwinery.com/wp-content/uploads/2023/04/Summer-Concert-Series-Flyer-Updated.jpg
END:VEVENT
END:VCALENDAR