BEGIN:VCALENDAR
VERSION:2.0
PRODID:-//Barnstormer Winery - ECPv6.15.16//NONSGML v1.0//EN
CALSCALE:GREGORIAN
METHOD:PUBLISH
X-ORIGINAL-URL:https://barnstormerwinery.com
X-WR-CALDESC:Events for Barnstormer Winery
REFRESH-INTERVAL;VALUE=DURATION:PT1H
X-Robots-Tag:noindex
X-PUBLISHED-TTL:PT1H
BEGIN:VTIMEZONE
TZID:America/New_York
BEGIN:DAYLIGHT
TZOFFSETFROM:-0500
TZOFFSETTO:-0400
TZNAME:EDT
DTSTART:20230312T070000
END:DAYLIGHT
BEGIN:STANDARD
TZOFFSETFROM:-0400
TZOFFSETTO:-0500
TZNAME:EST
DTSTART:20231105T060000
END:STANDARD
BEGIN:DAYLIGHT
TZOFFSETFROM:-0500
TZOFFSETTO:-0400
TZNAME:EDT
DTSTART:20240310T070000
END:DAYLIGHT
BEGIN:STANDARD
TZOFFSETFROM:-0400
TZOFFSETTO:-0500
TZNAME:EST
DTSTART:20241103T060000
END:STANDARD
BEGIN:DAYLIGHT
TZOFFSETFROM:-0500
TZOFFSETTO:-0400
TZNAME:EDT
DTSTART:20250309T070000
END:DAYLIGHT
BEGIN:STANDARD
TZOFFSETFROM:-0400
TZOFFSETTO:-0500
TZNAME:EST
DTSTART:20251102T060000
END:STANDARD
END:VTIMEZONE
BEGIN:VEVENT
DTSTART;TZID=America/New_York:20240804T113000
DTEND;TZID=America/New_York:20240804T143000
DTSTAMP:20260420T133409
CREATED:20240521T170403Z
LAST-MODIFIED:20240719T163103Z
UID:10000369-1722771000-1722781800@barnstormerwinery.com
SUMMARY:Sunday Brunch Boards & Live Music
DESCRIPTION:Sunday Brunch Boards & Live Music at Barnstormer Winery!\n\nJoin us every Sunday for our first annual casual Brunch & Music Series\, starting July 7th through August 25th from 11:30am-2:00pm at our Hanger Bar & Outdoor Pavilion. We will be rotating the brunch board menu weekly\, featuring seasonal/fresh ingredients. Wines by the glass\, mimosas\, local craft beer & non-alcoholic options will be available!\n\nOur Brunch Series features live music (no cover!)\, is family & dog friendly\, & takes place rain or shine. We’ll provide casual seating at our Hanger Bar Pavilion & Outdoor Kitchen with rotating seasonal culinary menus in collaboration with Dean Lane Dining. Vegan options will also be available. Brunch is first come first serve until we sell out of our weekly brunch boards\, and one brunch board is meant to be shared between two guests.\n\nAll seating is first come\, first serve\, but groups over 6 are encouraged to RSVP.\n\nCome for brunch & music\, but stay for wines by the glass\, local craft beer\, & our signature mimosas!
URL:https://barnstormerwinery.com/event/sunday-brunch-boards-live-music-5/
LOCATION:Barnstormer Winery\, 4184 New York 14\, Rock Stream\, NY\, 14878\, United States
CATEGORIES:Free Events at Barnstormer
ATTACH;FMTTYPE=image/png:https://barnstormerwinery.com/wp-content/uploads/2024/05/Brunch-Series-Flyer-2.png
END:VEVENT
BEGIN:VEVENT
DTSTART;TZID=America/New_York:20240806T170000
DTEND;TZID=America/New_York:20240806T200000
DTSTAMP:20260420T133409
CREATED:20240422T171637Z
LAST-MODIFIED:20240422T175722Z
UID:10000355-1722963600-1722974400@barnstormerwinery.com
SUMMARY:Summer Happy Hour\, Live Music\, & Local Food Series!
DESCRIPTION:Join us this summer on Tuesday evenings from 5pm – 8pm\, for our 10th annual Happy Hour\, Live Music & Local Food series! Running June\, July\, and August\, we feature all local musicians who write and perform all original music. Enjoy Barnstormer wine\, local beer and craft cocktails\, along with locally sourced & seasonally fresh pop-up catering menus each week in collaboration with Dean Lane Dining. \nNo cover & family friendly! Seating is based on a first come first served basis\, with large group reservations being the exception. If you have 8 or more and call in advance\, to reserve one of our three cabanas for your group to guarantee seatings.\n\nOur new covered pavilion will be making its debut this season\, hosting our Hanger Bar\, and proving more opportunities to enjoy our gorgeous outdoor space\, rain or shine!\n\nIn case of particularly inclement weather\, our happy hour will take place inside our main tasting room.\n\nCheck out our 2024 concert series line up below! \nJune 4th: Louiston Duo\nJune 11th: Garlic.Band Duo\nJune 18th: Mike Lucey Duo\nJune 25th: Adam Guinn\nJuly 2nd: Rena Guinn & Joe Lule\nJuly 9th: Tony Serdula\nJuly 16th: Levi Gangi\nJuly 23rd: Tim Braley\nJuly 30th: John Horne\nAugust 6th: River Lynch\nAugust 13th: Widely Grown Duo\nAugust 20th: Jacob Shipley\nAugust 27th: Rena Guinn & Joe Lule\n\n\nParking fills up fast so try and carpool as well.\n\nHave a larger group (8 or more) and want to reserve one of our three cabanas? Please give us a call in advance at 607-243-4008. These events are typically held outside on the winery grounds and they will run rain or shine!\n\nFamily friendly. Dog friendly. Bring your picnic blankets and lawn chairs as well if you’d like!\n\nWe look forward to seeing you!
URL:https://barnstormerwinery.com/event/summer-happy-hour-live-music-local-food-series-10/
LOCATION:Barnstormer Winery\, 4184 New York 14\, Rock Stream\, NY\, 14878\, United States
CATEGORIES:Free Events at Barnstormer
ATTACH;FMTTYPE=image/png:https://barnstormerwinery.com/wp-content/uploads/2024/04/Summer-Concert-Series-Flyer-Updated-3.png
END:VEVENT
BEGIN:VEVENT
DTSTART;TZID=America/New_York:20240809T130000
DTEND;TZID=America/New_York:20240809T143000
DTSTAMP:20260420T133409
CREATED:20240521T162950Z
LAST-MODIFIED:20240521T181915Z
UID:10000363-1723208400-1723213800@barnstormerwinery.com
SUMMARY:Winemaker Vineyard Tour & Tasting Summer Series Part 5
DESCRIPTION:Join us this summer for an in depth look at the 2024 grape growing season! Winemaker\, Taylor Stember\, will be leading six vineyard tours throughout the summer from June – August. These vineyard tours will fall on the second and fourth Friday of June\, July & August from 1pm – 230pm. Included will be an educational vineyard tour of the Barnstormer home farm (we will be pouring a couple wines during the vineyard tour portion)\, followed by an in depth wine tasting of five – six wines selected by Taylor and a farmed & foraged cheese and charcuterie board under our outdoor pavilion. Join us for multiple events to see the vineyard growth & progress throughout the summer season! \n$49/pp plus tax & ticket fees. (Wine Club Members will receive a complimentary red wine burgundy bowl Barnstormer logo’d wine glass to keep). \n12 tickets available per tour. 21+ only & no pets. Please arrive a few minutes early! These events will run rain or shine.
URL:https://barnstormerwinery.com/event/winemaker-vineyard-tour-tasting-summer-series-part-1-5/
LOCATION:Barnstormer Winery\, 4184 New York 14\, Rock Stream\, NY\, 14878\, United States
CATEGORIES:Ticketed Events at Barnstormer
ATTACH;FMTTYPE=image/jpeg:https://barnstormerwinery.com/wp-content/uploads/2024/05/QQQ_6189-scaled.jpg
END:VEVENT
BEGIN:VEVENT
DTSTART;TZID=America/New_York:20240811T113000
DTEND;TZID=America/New_York:20240811T143000
DTSTAMP:20260420T133409
CREATED:20240521T170522Z
LAST-MODIFIED:20240719T163036Z
UID:10000370-1723375800-1723386600@barnstormerwinery.com
SUMMARY:Sunday Brunch Boards & Live Music
DESCRIPTION:Sunday Brunch Boards & Live Music at Barnstormer Winery!\n\nJoin us every Sunday for our first annual casual Brunch & Music Series\, starting July 7th through August 25th from 11:30am-2:00pm at our Hanger Bar & Outdoor Pavilion. We will be rotating the brunch board menu weekly\, featuring seasonal/fresh ingredients. Wines by the glass\, mimosas\, local craft beer & non-alcoholic options will be available!\n\nOur Brunch Series features live music (no cover!)\, is family & dog friendly\, & takes place rain or shine. We’ll provide casual seating at our Hanger Bar Pavilion & Outdoor Kitchen with rotating seasonal culinary menus in collaboration with Dean Lane Dining. Vegan options will also be available. Brunch is first come first serve until we sell out of our weekly brunch boards\, and one brunch board is meant to be shared between two guests.\n\nAll seating is first come\, first serve\, but groups over 6 are encouraged to RSVP.\n\nCome for brunch & music\, but stay for wines by the glass\, local craft beer\, & our signature mimosas!
URL:https://barnstormerwinery.com/event/sunday-brunch-boards-live-music-6/
LOCATION:Barnstormer Winery\, 4184 New York 14\, Rock Stream\, NY\, 14878\, United States
CATEGORIES:Free Events at Barnstormer
ATTACH;FMTTYPE=image/png:https://barnstormerwinery.com/wp-content/uploads/2024/05/Brunch-Series-Flyer-2.png
END:VEVENT
BEGIN:VEVENT
DTSTART;TZID=America/New_York:20240813T170000
DTEND;TZID=America/New_York:20240813T200000
DTSTAMP:20260420T133409
CREATED:20240422T171742Z
LAST-MODIFIED:20240422T175707Z
UID:10000356-1723568400-1723579200@barnstormerwinery.com
SUMMARY:Summer Happy Hour\, Live Music\, & Local Food Series!
DESCRIPTION:Join us this summer on Tuesday evenings from 5pm – 8pm\, for our 10th annual Happy Hour\, Live Music & Local Food series! Running June\, July\, and August\, we feature all local musicians who write and perform all original music. Enjoy Barnstormer wine\, local beer and craft cocktails\, along with locally sourced & seasonally fresh pop-up catering menus each week in collaboration with Dean Lane Dining. \nNo cover & family friendly! Seating is based on a first come first served basis\, with large group reservations being the exception. If you have 8 or more and call in advance\, to reserve one of our three cabanas for your group to guarantee seatings.\n\nOur new covered pavilion will be making its debut this season\, hosting our Hanger Bar\, and proving more opportunities to enjoy our gorgeous outdoor space\, rain or shine!\n\nIn case of particularly inclement weather\, our happy hour will take place inside our main tasting room.\n\nCheck out our 2024 concert series line up below! \nJune 4th: Louiston Duo\nJune 11th: Garlic.Band Duo\nJune 18th: Mike Lucey Duo\nJune 25th: Adam Guinn\nJuly 2nd: Rena Guinn & Joe Lule\nJuly 9th: Tony Serdula\nJuly 16th: Levi Gangi\nJuly 23rd: Tim Braley\nJuly 30th: John Horne\nAugust 6th: River Lynch\nAugust 13th: Widely Grown Duo\nAugust 20th: Jacob Shipley\nAugust 27th: Rena Guinn & Joe Lule\n\n\nParking fills up fast so try and carpool as well.\n\nHave a larger group (8 or more) and want to reserve one of our three cabanas? Please give us a call in advance at 607-243-4008. These events are typically held outside on the winery grounds and they will run rain or shine!\n\nFamily friendly. Dog friendly. Bring your picnic blankets and lawn chairs as well if you’d like!\n\nWe look forward to seeing you!
URL:https://barnstormerwinery.com/event/summer-happy-hour-live-music-local-food-series-11/
LOCATION:Barnstormer Winery\, 4184 New York 14\, Rock Stream\, NY\, 14878\, United States
CATEGORIES:Free Events at Barnstormer
ATTACH;FMTTYPE=image/png:https://barnstormerwinery.com/wp-content/uploads/2024/04/Summer-Concert-Series-Flyer-Updated-3.png
END:VEVENT
BEGIN:VEVENT
DTSTART;TZID=America/New_York:20240818T113000
DTEND;TZID=America/New_York:20240818T143000
DTSTAMP:20260420T133409
CREATED:20240521T170632Z
LAST-MODIFIED:20240719T163003Z
UID:10000371-1723980600-1723991400@barnstormerwinery.com
SUMMARY:Sunday Brunch Boards & Live Music
DESCRIPTION:Sunday Brunch Boards & Live Music at Barnstormer Winery!\n\nJoin us every Sunday for our first annual casual Brunch & Music Series\, starting July 7th through August 25th from 11:30am-2:00pm at our Hanger Bar & Outdoor Pavilion. We will be rotating the brunch board menu weekly\, featuring seasonal/fresh ingredients. Wines by the glass\, mimosas\, local craft beer & non-alcoholic options will be available!\n\nOur Brunch Series features live music (no cover!)\, is family & dog friendly\, & takes place rain or shine. We’ll provide casual seating at our Hanger Bar Pavilion & Outdoor Kitchen with rotating seasonal culinary menus in collaboration with Dean Lane Dining. Vegan options will also be available. Brunch is first come first serve until we sell out of our weekly brunch boards\, and one brunch board is meant to be shared between two guests.\n\nAll seating is first come\, first serve\, but groups over 6 are encouraged to RSVP.\n\nCome for brunch & music\, but stay for wines by the glass\, local craft beer\, & our signature mimosas!
URL:https://barnstormerwinery.com/event/sunday-brunch-boards-live-music-7/
LOCATION:Barnstormer Winery\, 4184 New York 14\, Rock Stream\, NY\, 14878\, United States
CATEGORIES:Free Events at Barnstormer
ATTACH;FMTTYPE=image/png:https://barnstormerwinery.com/wp-content/uploads/2024/05/Brunch-Series-Flyer-2.png
END:VEVENT
BEGIN:VEVENT
DTSTART;TZID=America/New_York:20240820T170000
DTEND;TZID=America/New_York:20240820T200000
DTSTAMP:20260420T133409
CREATED:20240422T171912Z
LAST-MODIFIED:20240422T175652Z
UID:10000357-1724173200-1724184000@barnstormerwinery.com
SUMMARY:Summer Happy Hour\, Live Music\, & Local Food Series!
DESCRIPTION:Join us this summer on Tuesday evenings from 5pm – 8pm\, for our 10th annual Happy Hour\, Live Music & Local Food series! Running June\, July\, and August\, we feature all local musicians who write and perform all original music. Enjoy Barnstormer wine\, local beer and craft cocktails\, along with locally sourced & seasonally fresh pop-up catering menus each week in collaboration with Dean Lane Dining. \nNo cover & family friendly! Seating is based on a first come first served basis\, with large group reservations being the exception. If you have 8 or more and call in advance\, to reserve one of our three cabanas for your group to guarantee seatings.\n\nOur new covered pavilion will be making its debut this season\, hosting our Hanger Bar\, and proving more opportunities to enjoy our gorgeous outdoor space\, rain or shine!\n\nIn case of particularly inclement weather\, our happy hour will take place inside our main tasting room.\n\nCheck out our 2024 concert series line up below! \nJune 4th: Louiston Duo\nJune 11th: Garlic.Band Duo\nJune 18th: Mike Lucey Duo\nJune 25th: Adam Guinn\nJuly 2nd: Rena Guinn & Joe Lule\nJuly 9th: Tony Serdula\nJuly 16th: Levi Gangi\nJuly 23rd: Tim Braley\nJuly 30th: John Horne\nAugust 6th: River Lynch\nAugust 13th: Widely Grown Duo\nAugust 20th: Jacob Shipley\nAugust 27th: Rena Guinn & Joe Lule\n\n\nParking fills up fast so try and carpool as well.\n\nHave a larger group (8 or more) and want to reserve one of our three cabanas? Please give us a call in advance at 607-243-4008. These events are typically held outside on the winery grounds and they will run rain or shine!\n\nFamily friendly. Dog friendly. Bring your picnic blankets and lawn chairs as well if you’d like!\n\nWe look forward to seeing you!
URL:https://barnstormerwinery.com/event/summer-happy-hour-live-music-local-food-series-12/
LOCATION:Barnstormer Winery\, 4184 New York 14\, Rock Stream\, NY\, 14878\, United States
CATEGORIES:Free Events at Barnstormer
ATTACH;FMTTYPE=image/png:https://barnstormerwinery.com/wp-content/uploads/2024/04/Summer-Concert-Series-Flyer-Updated-3.png
END:VEVENT
BEGIN:VEVENT
DTSTART;TZID=America/New_York:20240823T130000
DTEND;TZID=America/New_York:20240823T143000
DTSTAMP:20260420T133409
CREATED:20240521T163644Z
LAST-MODIFIED:20240521T182136Z
UID:10000364-1724418000-1724423400@barnstormerwinery.com
SUMMARY:Winemaker Vineyard Tour & Tasting Summer Series Part 6
DESCRIPTION:Join us this summer for an in depth look at the 2024 grape growing season! Winemaker\, Taylor Stember\, will be leading six vineyard tours throughout the summer from June – August. These vineyard tours will fall on the second and fourth Friday of June\, July & August from 1pm – 230pm. Included will be an educational vineyard tour of the Barnstormer home farm (we will be pouring a couple wines during the vineyard tour portion)\, followed by an in depth wine tasting of five – six wines selected by Taylor and a farmed & foraged cheese and charcuterie board under our outdoor pavilion. Join us for multiple events to see the vineyard growth & progress throughout the summer season! \n$49/pp plus tax & ticket fees. (Wine Club Members will receive a complimentary red wine burgundy bowl Barnstormer logo’d wine glass to keep). \n12 tickets available per tour. 21+ only & no pets. Please arrive a few minutes early! These events will run rain or shine.
URL:https://barnstormerwinery.com/event/winemaker-vineyard-tour-tasting-summer-series-part-1-6/
LOCATION:Barnstormer Winery\, 4184 New York 14\, Rock Stream\, NY\, 14878\, United States
CATEGORIES:Ticketed Events at Barnstormer
ATTACH;FMTTYPE=image/jpeg:https://barnstormerwinery.com/wp-content/uploads/2024/05/QQQ_6189-scaled.jpg
END:VEVENT
BEGIN:VEVENT
DTSTART;TZID=America/New_York:20240825T113000
DTEND;TZID=America/New_York:20240825T143000
DTSTAMP:20260420T133409
CREATED:20240521T170736Z
LAST-MODIFIED:20240719T162921Z
UID:10000372-1724585400-1724596200@barnstormerwinery.com
SUMMARY:Sunday Brunch Boards & Live Music
DESCRIPTION:Sunday Brunch Boards & Live Music at Barnstormer Winery!\n\nJoin us every Sunday for our first annual casual Brunch & Music Series\, starting July 7th through August 25th from 11:30am-2:00pm at our Hanger Bar & Outdoor Pavilion. We will be rotating the brunch board menu weekly\, featuring seasonal/fresh ingredients. Wines by the glass\, mimosas\, local craft beer & non-alcoholic options will be available!\n\nOur Brunch Series features live music (no cover!)\, is family & dog friendly\, & takes place rain or shine. We’ll provide casual seating at our Hanger Bar Pavilion & Outdoor Kitchen with rotating seasonal culinary menus in collaboration with Dean Lane Dining. Vegan options will also be available. Brunch is first come first serve until we sell out of our weekly brunch boards\, and one brunch board is meant to be shared between two guests.\n\nAll seating is first come\, first serve\, but groups over 6 are encouraged to RSVP.\n\nCome for brunch & music\, but stay for wines by the glass\, local craft beer\, & our signature mimosas!
URL:https://barnstormerwinery.com/event/sunday-brunch-boards-live-music-8/
LOCATION:Barnstormer Winery\, 4184 New York 14\, Rock Stream\, NY\, 14878\, United States
CATEGORIES:Free Events at Barnstormer
ATTACH;FMTTYPE=image/png:https://barnstormerwinery.com/wp-content/uploads/2024/05/Brunch-Series-Flyer-2.png
END:VEVENT
BEGIN:VEVENT
DTSTART;TZID=America/New_York:20240827T170000
DTEND;TZID=America/New_York:20240827T200000
DTSTAMP:20260420T133409
CREATED:20240422T172015Z
LAST-MODIFIED:20240422T175623Z
UID:10000358-1724778000-1724788800@barnstormerwinery.com
SUMMARY:Summer Happy Hour\, Live Music\, & Local Food Series!
DESCRIPTION:Join us this summer on Tuesday evenings from 5pm – 8pm\, for our 10th annual Happy Hour\, Live Music & Local Food series! Running June\, July\, and August\, we feature all local musicians who write and perform all original music. Enjoy Barnstormer wine\, local beer and craft cocktails\, along with locally sourced & seasonally fresh pop-up catering menus each week in collaboration with Dean Lane Dining. \nNo cover & family friendly! Seating is based on a first come first served basis\, with large group reservations being the exception. If you have 8 or more and call in advance\, to reserve one of our three cabanas for your group to guarantee seatings.\n\nOur new covered pavilion will be making its debut this season\, hosting our Hanger Bar\, and proving more opportunities to enjoy our gorgeous outdoor space\, rain or shine!\n\nIn case of particularly inclement weather\, our happy hour will take place inside our main tasting room.\n\nCheck out our 2024 concert series line up below! \nJune 4th: Louiston Duo\nJune 11th: Garlic.Band Duo\nJune 18th: Mike Lucey Duo\nJune 25th: Adam Guinn\nJuly 2nd: Rena Guinn & Joe Lule\nJuly 9th: Tony Serdula\nJuly 16th: Levi Gangi\nJuly 23rd: Tim Braley\nJuly 30th: John Horne\nAugust 6th: River Lynch\nAugust 13th: Widely Grown Duo\nAugust 20th: Jacob Shipley\nAugust 27th: Rena Guinn & Joe Lule\n\n\nParking fills up fast so try and carpool as well.\n\nHave a larger group (8 or more) and want to reserve one of our three cabanas? Please give us a call in advance at 607-243-4008. These events are typically held outside on the winery grounds and they will run rain or shine!\n\nFamily friendly. Dog friendly. Bring your picnic blankets and lawn chairs as well if you’d like!\n\nWe look forward to seeing you!
URL:https://barnstormerwinery.com/event/summer-happy-hour-live-music-local-food-series-13/
LOCATION:Barnstormer Winery\, 4184 New York 14\, Rock Stream\, NY\, 14878\, United States
CATEGORIES:Free Events at Barnstormer
ATTACH;FMTTYPE=image/png:https://barnstormerwinery.com/wp-content/uploads/2024/04/Summer-Concert-Series-Flyer-Updated-3.png
END:VEVENT
END:VCALENDAR