BEGIN:VCALENDAR
VERSION:2.0
PRODID:-//Barnstormer Winery - ECPv6.15.16//NONSGML v1.0//EN
CALSCALE:GREGORIAN
METHOD:PUBLISH
X-ORIGINAL-URL:https://barnstormerwinery.com
X-WR-CALDESC:Events for Barnstormer Winery
REFRESH-INTERVAL;VALUE=DURATION:PT1H
X-Robots-Tag:noindex
X-PUBLISHED-TTL:PT1H
BEGIN:VTIMEZONE
TZID:America/New_York
BEGIN:DAYLIGHT
TZOFFSETFROM:-0500
TZOFFSETTO:-0400
TZNAME:EDT
DTSTART:20230312T070000
END:DAYLIGHT
BEGIN:STANDARD
TZOFFSETFROM:-0400
TZOFFSETTO:-0500
TZNAME:EST
DTSTART:20231105T060000
END:STANDARD
BEGIN:DAYLIGHT
TZOFFSETFROM:-0500
TZOFFSETTO:-0400
TZNAME:EDT
DTSTART:20240310T070000
END:DAYLIGHT
BEGIN:STANDARD
TZOFFSETFROM:-0400
TZOFFSETTO:-0500
TZNAME:EST
DTSTART:20241103T060000
END:STANDARD
BEGIN:DAYLIGHT
TZOFFSETFROM:-0500
TZOFFSETTO:-0400
TZNAME:EDT
DTSTART:20250309T070000
END:DAYLIGHT
BEGIN:STANDARD
TZOFFSETFROM:-0400
TZOFFSETTO:-0500
TZNAME:EST
DTSTART:20251102T060000
END:STANDARD
END:VTIMEZONE
BEGIN:VEVENT
DTSTART;TZID=America/New_York:20240907T110000
DTEND;TZID=America/New_York:20240907T160000
DTSTAMP:20260420T151131
CREATED:20240416T173100Z
LAST-MODIFIED:20240416T173100Z
UID:10000344-1725706800-1725724800@barnstormerwinery.com
SUMMARY:Aviator's Wine Club September Pick-Up Party - Annual Clam Bake & Boil
DESCRIPTION:Attention all Aviator’s Wine Club Members! Our Annual Clam Bake & Boil Returns! \nOur September pickup party of the year is fast approaching! Saturday\, September 7th from 11am – 4pm\, we will be featuring four of our favorite Barnstormer wines (plus some bonus pours!) and offering a complimentary Clam Bake & Boil pairing freshly prepared by our in-house kitchen\, for each member +1 guest. Yum! Additional guests can be brought in for the wine tasting & culinary pairing experience for $27/pp. Join us this holiday season\, warm up by our fireplace and stock up on your favorite wines for winter. \nPlease RSVP by e-mailing Kelly the number of guests\, time you’d like to join us that day. You may also call the winery at 607-243-4008 during business hours or e-mail reservations@barnstormerwinery.com. Reservations required in advance for our preparation. \nRemember\, we can also cellar your 4\, 6 or 12-pack releases for up to 1 full year. All AWC4\, AWC6 & AWC12 members are welcome! All wine club members will receive 50% off our farmed & foraged pairing boards during their winery visits as well. \nCan’t join us as a ship member? We are extending $15 flat rate shipping across all wine clubs moving forward as a new perk! \nCheers!
URL:https://barnstormerwinery.com/event/aviators-wine-club-september-pick-up-party-annual-clam-bake-boil/
LOCATION:NY
CATEGORIES:Aviator's Wine Club Events
ATTACH;FMTTYPE=image/jpeg:https://barnstormerwinery.com/wp-content/uploads/2024/04/IMG_6788-72.jpeg
END:VEVENT
END:VCALENDAR