BEGIN:VCALENDAR
VERSION:2.0
PRODID:-//Barnstormer Winery - ECPv6.15.16//NONSGML v1.0//EN
CALSCALE:GREGORIAN
METHOD:PUBLISH
X-WR-CALNAME:Barnstormer Winery
X-ORIGINAL-URL:https://barnstormerwinery.com
X-WR-CALDESC:Events for Barnstormer Winery
REFRESH-INTERVAL;VALUE=DURATION:PT1H
X-Robots-Tag:noindex
X-PUBLISHED-TTL:PT1H
BEGIN:VTIMEZONE
TZID:America/New_York
BEGIN:DAYLIGHT
TZOFFSETFROM:-0500
TZOFFSETTO:-0400
TZNAME:EDT
DTSTART:20240310T070000
END:DAYLIGHT
BEGIN:STANDARD
TZOFFSETFROM:-0400
TZOFFSETTO:-0500
TZNAME:EST
DTSTART:20241103T060000
END:STANDARD
BEGIN:DAYLIGHT
TZOFFSETFROM:-0500
TZOFFSETTO:-0400
TZNAME:EDT
DTSTART:20250309T070000
END:DAYLIGHT
BEGIN:STANDARD
TZOFFSETFROM:-0400
TZOFFSETTO:-0500
TZNAME:EST
DTSTART:20251102T060000
END:STANDARD
BEGIN:DAYLIGHT
TZOFFSETFROM:-0500
TZOFFSETTO:-0400
TZNAME:EDT
DTSTART:20260308T070000
END:DAYLIGHT
BEGIN:STANDARD
TZOFFSETFROM:-0400
TZOFFSETTO:-0500
TZNAME:EST
DTSTART:20261101T060000
END:STANDARD
END:VTIMEZONE
BEGIN:VEVENT
DTSTART;TZID=America/New_York:20251206T110000
DTEND;TZID=America/New_York:20251206T150000
DTSTAMP:20260422T053609
CREATED:20251031T203513Z
LAST-MODIFIED:20251031T203945Z
UID:10000417-1765018800-1765033200@barnstormerwinery.com
SUMMARY:Aviator's Wine Club December Pickup Party!
DESCRIPTION:Attention all Aviator’s Wine Club Members! \nOur December 2025 pickup party is fast approaching! Saturday\, December 6th from 11am – 3pm\, we will be featuring four of our favorite Barnstormer wines (plus some bonus pours!) and offering a complimentary seasonal culinary pairing prepared by our talented friend’s at Dean Lane Dining\, for each member +1 guest. Yum! Additional guests can be brought in for the wine tasting & culinary pairing experience for $27/pp. Join us this holiday season\, warm up by our fireplace and stock up on your favorite wines for winter. \nPlease RSVP by e-mailing our GM & Wine Club Manager\, Kelly\, the number of guests & time you’d like to join us that day. You may also call the winery at 607-243-4008 during business hours or e-mail reservations@barnstormerwinery.com. Reservations required in advance for our preparation. Seatings for this event are on the hour starting at 11AM\, with the last seating of the day at 3PM. \nRemember\, we can also cellar your 4\, 6 or 12-pack releases for up to 1 full year. All wine club members are welcome to join for this event! As a reminder\, wine club members receive 50% off our farmed & foraged pairing boards during their winery visits along with complimentary tastings with each quarterly release. \nCan’t join us as a ship member? We are extending $15 flat rate shipping across all wine clubs moving forward as a new perk! \nCheers!
URL:https://barnstormerwinery.com/event/aviators-wine-club-december-pickup-party/
LOCATION:Barnstormer Winery\, 4184 New York 14\, Rock Stream\, NY\, 14878\, United States
CATEGORIES:Aviator's Wine Club Events
ATTACH;FMTTYPE=image/jpeg:https://barnstormerwinery.com/wp-content/uploads/2025/10/AK09770-1-scaled.jpg
END:VEVENT
END:VCALENDAR