BEGIN:VCALENDAR
VERSION:2.0
PRODID:-//Barnstormer Winery - ECPv6.15.16//NONSGML v1.0//EN
CALSCALE:GREGORIAN
METHOD:PUBLISH
X-WR-CALNAME:Barnstormer Winery
X-ORIGINAL-URL:https://barnstormerwinery.com
X-WR-CALDESC:Events for Barnstormer Winery
REFRESH-INTERVAL;VALUE=DURATION:PT1H
X-Robots-Tag:noindex
X-PUBLISHED-TTL:PT1H
BEGIN:VTIMEZONE
TZID:America/New_York
BEGIN:DAYLIGHT
TZOFFSETFROM:-0500
TZOFFSETTO:-0400
TZNAME:EDT
DTSTART:20240310T070000
END:DAYLIGHT
BEGIN:STANDARD
TZOFFSETFROM:-0400
TZOFFSETTO:-0500
TZNAME:EST
DTSTART:20241103T060000
END:STANDARD
BEGIN:DAYLIGHT
TZOFFSETFROM:-0500
TZOFFSETTO:-0400
TZNAME:EDT
DTSTART:20250309T070000
END:DAYLIGHT
BEGIN:STANDARD
TZOFFSETFROM:-0400
TZOFFSETTO:-0500
TZNAME:EST
DTSTART:20251102T060000
END:STANDARD
BEGIN:DAYLIGHT
TZOFFSETFROM:-0500
TZOFFSETTO:-0400
TZNAME:EDT
DTSTART:20260308T070000
END:DAYLIGHT
BEGIN:STANDARD
TZOFFSETFROM:-0400
TZOFFSETTO:-0500
TZNAME:EST
DTSTART:20261101T060000
END:STANDARD
END:VTIMEZONE
BEGIN:VEVENT
DTSTART;TZID=America/New_York:20250222T170000
DTEND;TZID=America/New_York:20250222T210000
DTSTAMP:20260421T095947
CREATED:20241104T164629Z
LAST-MODIFIED:20250220T174308Z
UID:10000377-1740243600-1740258000@barnstormerwinery.com
SUMMARY:CANCELLED - Fireside Speakeasy at Barnstormer Winery
DESCRIPTION:This event is cancelled due to various weather and scheduling concerns. All refunds are being issued. Please reach out to admin@barnstormerwinery.com with any refund concerns. Thank you! \n  \n  \nEscape the winter blues & the boys in blue at our exclusive winter speakeasy. February 22nd\, 5PM – 9PM! \nGrab your guy or gal for an adventure (after) Valentine’s Day weekend back in time as you enjoy an event filled with Barnstormer wines\, a menu of special cocktails\, light bites\, & cozy vibes by fire place & candlelight. Dress in your best 1920s attire and give the password at the barn door for entry to this limited access event. \nTicket price includes entry & a glass of wine (including reserve wines). \n\nMenu of specialty cocktails\, Barnstormer wines\, & local craft beer\nMenu of small bites available\n1920s dress code encouraged\nPassword for entry provided after ticket purchase\n\nSneak into our barn for a riotous time with great beverages paired with great company! \nGeneral Entry- $40 \nIndustry- $25 \nWine Club- $25 \n(High Flyer Members please reach out to us directly for special instructions…)
URL:https://barnstormerwinery.com/event/fireside-speakeasy/
LOCATION:Barnstormer Winery\, 4184 New York 14\, Rock Stream\, NY\, 14878\, United States
CATEGORIES:Events in FLX
ATTACH;FMTTYPE=image/png:https://barnstormerwinery.com/wp-content/uploads/2024/11/Winter-Speakeasy-1.png
END:VEVENT
END:VCALENDAR