BEGIN:VCALENDAR
VERSION:2.0
PRODID:-//Barnstormer Winery - ECPv6.15.16//NONSGML v1.0//EN
CALSCALE:GREGORIAN
METHOD:PUBLISH
X-WR-CALNAME:Barnstormer Winery
X-ORIGINAL-URL:https://barnstormerwinery.com
X-WR-CALDESC:Events for Barnstormer Winery
REFRESH-INTERVAL;VALUE=DURATION:PT1H
X-Robots-Tag:noindex
X-PUBLISHED-TTL:PT1H
BEGIN:VTIMEZONE
TZID:America/New_York
BEGIN:DAYLIGHT
TZOFFSETFROM:-0500
TZOFFSETTO:-0400
TZNAME:EDT
DTSTART:20250309T070000
END:DAYLIGHT
BEGIN:STANDARD
TZOFFSETFROM:-0400
TZOFFSETTO:-0500
TZNAME:EST
DTSTART:20251102T060000
END:STANDARD
BEGIN:DAYLIGHT
TZOFFSETFROM:-0500
TZOFFSETTO:-0400
TZNAME:EDT
DTSTART:20260308T070000
END:DAYLIGHT
BEGIN:STANDARD
TZOFFSETFROM:-0400
TZOFFSETTO:-0500
TZNAME:EST
DTSTART:20261101T060000
END:STANDARD
BEGIN:DAYLIGHT
TZOFFSETFROM:-0500
TZOFFSETTO:-0400
TZNAME:EDT
DTSTART:20270314T070000
END:DAYLIGHT
BEGIN:STANDARD
TZOFFSETFROM:-0400
TZOFFSETTO:-0500
TZNAME:EST
DTSTART:20271107T060000
END:STANDARD
END:VTIMEZONE
BEGIN:VEVENT
DTSTART;TZID=America/New_York:20260605T130000
DTEND;TZID=America/New_York:20260605T150000
DTSTAMP:20260420T114031
CREATED:20251222T163157Z
LAST-MODIFIED:20251222T163158Z
UID:10000440-1780664400-1780671600@barnstormerwinery.com
SUMMARY:Elevated Vineyard Tour & Tasting
DESCRIPTION:Vineyard Tour: From Grape to Glass\nTake a step beyond the tasting room and experience Barnstormer from the ground up. \nOur Vineyard Tour invites guests into the heart of the Barnstormer Home Farm\, offering an in-depth look at how our wines are grown\, crafted\, and ultimately enjoyed. Led by a WSET Level 2–certified Barnstormer team member\, this guided walking tour provides a thoughtful\, hands-on exploration of our estate vineyard and the decisions that shape each vintage. \nTours run every Friday beginning May 22nd\, with the final tour taking place on September 4th. The experience begins at our outdoor Hangar Bar\, where guests will be welcomed before heading into the vineyard with a knowledgeable winery team member. As you move through the vineyard blocks\, you’ll learn about grape varieties\, vine balance\, seasonal vineyard work\, and how site-specific factors like soil\, slope\, and climate influence the wines we produce here in the Finger Lakes. \nAlong the way\, you’ll taste seven Barnstormer wines\, including single-vineyard selections that highlight the direct connection between the vineyard and the glass. These guided tastings are designed to deepen your understanding of varietal expression\, vintage variation\, and Barnstormer’s approach to winemaking. \nLight bites and locally sourced tapas will be served during the tour to complement the wines and enhance the tasting experience. \nTo maintain an intimate\, educational environment\, tours are limited to 14 guests. Advanced reservations are strongly encouraged. Tours will run from 1PM – 3PM. The first hour will focus on the vineyard education\, sampling wines paired with light bites and tapas. Settle in for the second hour with a glass of wine\, continuing the discussion with our Barnstormer team member at our Hangar Bar. There will be plenty of time to browse the winery\, purchase bottles and do a deep dive into our Aviator’s Wine Club offerings. Lakeside Trolley guests can stay for one or two trolley loops (each loop is around an hour)\, if you wanted to stay for a duration of the vineyard tour\, or for the full experience. \nPricing \n$49 per person (Regular Ticket Price) \n$39 per person (Lakeside Trolley guests and Barnstormer Wine Club Members) \nThis is a fully outdoor walking tour\, so we recommend wearing comfortable\, closed-toe walking shoes and dressing for the weather\, including appropriate layers. Tours will run rain or shine\, adjusting our educational approach based on what the weather allows us to do. If you have any questions prior to your visit\, please contact the tasting room at 607-243-4008 or e-mail reservations@barnstormerwinery.com.
URL:https://barnstormerwinery.com/event/elevated-vineyard-tour-tasting-3/
LOCATION:Barnstormer Winery\, 4184 New York 14\, Rock Stream\, NY\, 14878\, United States
CATEGORIES:Events in FLX,Ticketed Events at Barnstormer
ATTACH;FMTTYPE=image/jpeg:https://barnstormerwinery.com/wp-content/uploads/2024/12/QQQ_7657-scaled.jpg
END:VEVENT
BEGIN:VEVENT
DTSTART;TZID=America/New_York:20260612T130000
DTEND;TZID=America/New_York:20260612T150000
DTSTAMP:20260420T114031
CREATED:20251222T163509Z
LAST-MODIFIED:20251222T185130Z
UID:10000441-1781269200-1781276400@barnstormerwinery.com
SUMMARY:Elevated Vineyard Tour & Tasting
DESCRIPTION:Vineyard Tour: From Grape to Glass\nTake a step beyond the tasting room and experience Barnstormer from the ground up. \nOur Vineyard Tour invites guests into the heart of the Barnstormer Home Farm\, offering an in-depth look at how our wines are grown\, crafted\, and ultimately enjoyed. Led by a WSET Level 2–certified Barnstormer team member\, this guided walking tour provides a thoughtful\, hands-on exploration of our estate vineyard and the decisions that shape each vintage. \nTours run every Friday beginning May 22nd\, with the final tour taking place on September 4th. The experience begins at our outdoor Hangar Bar\, where guests will be welcomed before heading into the vineyard with a knowledgeable winery team member. As you move through the vineyard blocks\, you’ll learn about grape varieties\, vine balance\, seasonal vineyard work\, and how site-specific factors like soil\, slope\, and climate influence the wines we produce here in the Finger Lakes. \nAlong the way\, you’ll taste seven Barnstormer wines\, including single-vineyard selections that highlight the direct connection between the vineyard and the glass. These guided tastings are designed to deepen your understanding of varietal expression\, vintage variation\, and Barnstormer’s approach to winemaking. \nLight bites and locally sourced tapas will be served during the tour to complement the wines and enhance the tasting experience. \nTo maintain an intimate\, educational environment\, tours are limited to 14 guests. Advanced reservations are strongly encouraged. Tours will run from 1PM – 3PM. The first hour will focus on the vineyard education\, sampling wines paired with light bites and tapas. Settle in for the second hour with a glass of wine\, continuing the discussion with our Barnstormer team member at our Hangar Bar. There will be plenty of time to browse the winery\, purchase bottles and do a deep dive into our Aviator’s Wine Club offerings. Lakeside Trolley guests can stay for one or two trolley loops (each loop is around an hour)\, if you wanted to stay for a duration of the vineyard tour\, or for the full experience. \nPricing \n$49 per person (Regular Ticket Price) \n$39 per person (Lakeside Trolley guests and Barnstormer Wine Club Members) \nThis is a fully outdoor walking tour\, so we recommend wearing comfortable\, closed-toe walking shoes and dressing for the weather\, including appropriate layers. Tours will run rain or shine\, adjusting our educational approach based on what the weather allows us to do. If you have any questions prior to your visit\, please contact the tasting room at 607-243-4008 or e-mail reservations@barnstormerwinery.com.
URL:https://barnstormerwinery.com/event/elevated-vineyard-tour-tasting-4/
LOCATION:Barnstormer Winery\, 4184 New York 14\, Rock Stream\, NY\, 14878\, United States
CATEGORIES:Events in FLX,Ticketed Events at Barnstormer
ATTACH;FMTTYPE=image/jpeg:https://barnstormerwinery.com/wp-content/uploads/2024/12/QQQ_7657-scaled.jpg
END:VEVENT
BEGIN:VEVENT
DTSTART;TZID=America/New_York:20260626T130000
DTEND;TZID=America/New_York:20260626T150000
DTSTAMP:20260420T114032
CREATED:20251222T164227Z
LAST-MODIFIED:20251222T164229Z
UID:10000443-1782478800-1782486000@barnstormerwinery.com
SUMMARY:Elevated Vineyard Tour & Tasting
DESCRIPTION:Vineyard Tour: From Grape to Glass\nTake a step beyond the tasting room and experience Barnstormer from the ground up. \nOur Vineyard Tour invites guests into the heart of the Barnstormer Home Farm\, offering an in-depth look at how our wines are grown\, crafted\, and ultimately enjoyed. Led by a WSET Level 2–certified Barnstormer team member\, this guided walking tour provides a thoughtful\, hands-on exploration of our estate vineyard and the decisions that shape each vintage. \nTours run every Friday beginning May 22nd\, with the final tour taking place on September 4th. The experience begins at our outdoor Hangar Bar\, where guests will be welcomed before heading into the vineyard with a knowledgeable winery team member. As you move through the vineyard blocks\, you’ll learn about grape varieties\, vine balance\, seasonal vineyard work\, and how site-specific factors like soil\, slope\, and climate influence the wines we produce here in the Finger Lakes. \nAlong the way\, you’ll taste seven Barnstormer wines\, including single-vineyard selections that highlight the direct connection between the vineyard and the glass. These guided tastings are designed to deepen your understanding of varietal expression\, vintage variation\, and Barnstormer’s approach to winemaking. \nLight bites and locally sourced tapas will be served during the tour to complement the wines and enhance the tasting experience. \nTo maintain an intimate\, educational environment\, tours are limited to 14 guests. Advanced reservations are strongly encouraged. Tours will run from 1PM – 3PM. The first hour will focus on the vineyard education\, sampling wines paired with light bites and tapas. Settle in for the second hour with a glass of wine\, continuing the discussion with our Barnstormer team member at our Hangar Bar. There will be plenty of time to browse the winery\, purchase bottles and do a deep dive into our Aviator’s Wine Club offerings. Lakeside Trolley guests can stay for one or two trolley loops (each loop is around an hour)\, if you wanted to stay for a duration of the vineyard tour\, or for the full experience. \nPricing \n$49 per person (Regular Ticket Price) \n$39 per person (Lakeside Trolley guests and Barnstormer Wine Club Members) \nThis is a fully outdoor walking tour\, so we recommend wearing comfortable\, closed-toe walking shoes and dressing for the weather\, including appropriate layers. Tours will run rain or shine\, adjusting our educational approach based on what the weather allows us to do. If you have any questions prior to your visit\, please contact the tasting room at 607-243-4008 or e-mail reservations@barnstormerwinery.com.
URL:https://barnstormerwinery.com/event/elevated-vineyard-tour-tasting-6/
LOCATION:Barnstormer Winery\, 4184 New York 14\, Rock Stream\, NY\, 14878\, United States
CATEGORIES:Events in FLX,Ticketed Events at Barnstormer
ATTACH;FMTTYPE=image/jpeg:https://barnstormerwinery.com/wp-content/uploads/2024/12/QQQ_7657-scaled.jpg
END:VEVENT
END:VCALENDAR