BEGIN:VCALENDAR
VERSION:2.0
PRODID:-//Barnstormer Winery - ECPv6.15.16//NONSGML v1.0//EN
CALSCALE:GREGORIAN
METHOD:PUBLISH
X-WR-CALNAME:Barnstormer Winery
X-ORIGINAL-URL:https://barnstormerwinery.com
X-WR-CALDESC:Events for Barnstormer Winery
REFRESH-INTERVAL;VALUE=DURATION:PT1H
X-Robots-Tag:noindex
X-PUBLISHED-TTL:PT1H
BEGIN:VTIMEZONE
TZID:America/New_York
BEGIN:DAYLIGHT
TZOFFSETFROM:-0500
TZOFFSETTO:-0400
TZNAME:EDT
DTSTART:20230312T070000
END:DAYLIGHT
BEGIN:STANDARD
TZOFFSETFROM:-0400
TZOFFSETTO:-0500
TZNAME:EST
DTSTART:20231105T060000
END:STANDARD
BEGIN:DAYLIGHT
TZOFFSETFROM:-0500
TZOFFSETTO:-0400
TZNAME:EDT
DTSTART:20240310T070000
END:DAYLIGHT
BEGIN:STANDARD
TZOFFSETFROM:-0400
TZOFFSETTO:-0500
TZNAME:EST
DTSTART:20241103T060000
END:STANDARD
BEGIN:DAYLIGHT
TZOFFSETFROM:-0500
TZOFFSETTO:-0400
TZNAME:EDT
DTSTART:20250309T070000
END:DAYLIGHT
BEGIN:STANDARD
TZOFFSETFROM:-0400
TZOFFSETTO:-0500
TZNAME:EST
DTSTART:20251102T060000
END:STANDARD
END:VTIMEZONE
BEGIN:VEVENT
DTSTART;TZID=America/New_York:20240604T170000
DTEND;TZID=America/New_York:20240604T200000
DTSTAMP:20260422T060701
CREATED:20240422T170441Z
LAST-MODIFIED:20240528T214201Z
UID:10000346-1717520400-1717531200@barnstormerwinery.com
SUMMARY:Summer Happy Hour\, Live Music\, & Local Food Series!
DESCRIPTION:Join us this summer on Tuesday evenings from 5pm – 8pm\, for our 10th annual Happy Hour\, Live Music & Local Food series! Running June\, July\, and August\, we feature all local musicians who write and perform all original music. Enjoy Barnstormer wine\, local beer and craft cocktails\, along with locally sourced & seasonally fresh pop-up catering menus each week in collaboration with Dean Lane Dining. \nOur first happy hour series features a classic Taco Tuesday menu! Stop in for delicious tacos to accompany our happy hour drinks menu! \nNo cover & family friendly! Seating is based on a first come first served basis\, with large group reservations being the exception. If you have 8 or more and call in advance\, to reserve one of our three cabanas for your group to guarantee seatings.\n\nOur new covered pavilion will be making its debut this season\, hosting our Hanger Bar\, and proving more opportunities to enjoy our gorgeous outdoor space\, rain or shine!\n\nIn case of particularly inclement weather\, our happy hour will take place inside our main tasting room.\n\nCheck out our 2024 concert series line up below! \nJune 4th: Louiston Duo\nJune 11th: Garlic.Band Duo\nJune 18th: Mike Lucey Duo\nJune 25th: Scott Simolo\nJuly 2nd: Rena Guinn & Joe Lule\nJuly 9th: Tony Serdula\nJuly 16th: Levi Gangi\nJuly 23rd: Tim Braley\nJuly 30th: John Horne\nAugust 6th: River Lynch\nAugust 13th: Widely Grown Duo\nAugust 20th: Jacob Shipley\nAugust 27th: Rena Guinn & Joe Lule\n\n\nParking fills up fast so try and carpool as well.\n\nHave a larger group (8 or more) and want to reserve one of our three cabanas? Please give us a call in advance at 607-243-4008. These events are typically held outside on the winery grounds and they will run rain or shine!\n\nFamily friendly. Dog friendly. Bring your picnic blankets and lawn chairs as well if you’d like!\n\nWe look forward to seeing you!
URL:https://barnstormerwinery.com/event/summer-happy-hour-live-music-local-food-series/
LOCATION:Barnstormer Winery\, 4184 New York 14\, Rock Stream\, NY\, 14878\, United States
CATEGORIES:Free Events at Barnstormer
ATTACH;FMTTYPE=image/png:https://barnstormerwinery.com/wp-content/uploads/2024/04/Summer-Concert-Series-Flyer-Updated-3.png
END:VEVENT
BEGIN:VEVENT
DTSTART;TZID=America/New_York:20240611T170000
DTEND;TZID=America/New_York:20240611T200000
DTSTAMP:20260422T060701
CREATED:20240422T170654Z
LAST-MODIFIED:20240422T175945Z
UID:10000347-1718125200-1718136000@barnstormerwinery.com
SUMMARY:Summer Happy Hour\, Live Music\, & Local Food Series!
DESCRIPTION:Join us this summer on Tuesday evenings from 5pm – 8pm\, for our 10th annual Happy Hour\, Live Music & Local Food series! Running June\, July\, and August\, we feature all local musicians who write and perform all original music. Enjoy Barnstormer wine\, local beer and craft cocktails\, along with locally sourced & seasonally fresh pop-up catering menus each week in collaboration with Dean Lane Dining. \nNo cover & family friendly! Seating is based on a first come first served basis\, with large group reservations being the exception. If you have 8 or more and call in advance\, to reserve one of our three cabanas for your group to guarantee seatings.\n\nOur new covered pavilion will be making its debut this season\, hosting our Hanger Bar\, and proving more opportunities to enjoy our gorgeous outdoor space\, rain or shine!\n\nIn case of particularly inclement weather\, our happy hour will take place inside our main tasting room.\n\nCheck out our 2024 concert series line up below! \nJune 4th: Louiston Duo\nJune 11th: Garlic.Band Duo\nJune 18th: Mike Lucey Duo\nJune 25th: Adam Guinn\nJuly 2nd: Rena Guinn & Joe Lule\nJuly 9th: Tony Serdula\nJuly 16th: Levi Gangi\nJuly 23rd: Tim Braley\nJuly 30th: John Horne\nAugust 6th: River Lynch\nAugust 13th: Widely Grown Duo\nAugust 20th: Jacob Shipley\nAugust 27th: Rena Guinn & Joe Lule\n\n\nParking fills up fast so try and carpool as well.\n\nHave a larger group (8 or more) and want to reserve one of our three cabanas? Please give us a call in advance at 607-243-4008. These events are typically held outside on the winery grounds and they will run rain or shine!\n\nFamily friendly. Dog friendly. Bring your picnic blankets and lawn chairs as well if you’d like!\n\nWe look forward to seeing you!
URL:https://barnstormerwinery.com/event/summer-happy-hour-live-music-local-food-series-2/
LOCATION:Barnstormer Winery\, 4184 New York 14\, Rock Stream\, NY\, 14878\, United States
CATEGORIES:Free Events at Barnstormer
ATTACH;FMTTYPE=image/png:https://barnstormerwinery.com/wp-content/uploads/2024/04/Summer-Concert-Series-Flyer-Updated-3.png
END:VEVENT
BEGIN:VEVENT
DTSTART;TZID=America/New_York:20240625T170000
DTEND;TZID=America/New_York:20240625T200000
DTSTAMP:20260422T060701
CREATED:20240422T170919Z
LAST-MODIFIED:20240422T175913Z
UID:10000349-1719334800-1719345600@barnstormerwinery.com
SUMMARY:Summer Happy Hour\, Live Music\, & Local Food Series!
DESCRIPTION:Join us this summer on Tuesday evenings from 5pm – 8pm\, for our 10th annual Happy Hour\, Live Music & Local Food series! Running June\, July\, and August\, we feature all local musicians who write and perform all original music. Enjoy Barnstormer wine\, local beer and craft cocktails\, along with locally sourced & seasonally fresh pop-up catering menus each week in collaboration with Dean Lane Dining. \nNo cover & family friendly! Seating is based on a first come first served basis\, with large group reservations being the exception. If you have 8 or more and call in advance\, to reserve one of our three cabanas for your group to guarantee seatings.\n\nOur new covered pavilion will be making its debut this season\, hosting our Hanger Bar\, and proving more opportunities to enjoy our gorgeous outdoor space\, rain or shine!\n\nIn case of particularly inclement weather\, our happy hour will take place inside our main tasting room.\n\nCheck out our 2024 concert series line up below! \nJune 4th: Louiston Duo\nJune 11th: Garlic.Band Duo\nJune 18th: Mike Lucey Duo\nJune 25th: Adam Guinn\nJuly 2nd: Rena Guinn & Joe Lule\nJuly 9th: Tony Serdula\nJuly 16th: Levi Gangi\nJuly 23rd: Tim Braley\nJuly 30th: John Horne\nAugust 6th: River Lynch\nAugust 13th: Widely Grown Duo\nAugust 20th: Jacob Shipley\nAugust 27th: Rena Guinn & Joe Lule\n\n\nParking fills up fast so try and carpool as well.\n\nHave a larger group (8 or more) and want to reserve one of our three cabanas? Please give us a call in advance at 607-243-4008. These events are typically held outside on the winery grounds and they will run rain or shine!\n\nFamily friendly. Dog friendly. Bring your picnic blankets and lawn chairs as well if you’d like!\n\nWe look forward to seeing you!
URL:https://barnstormerwinery.com/event/summer-happy-hour-live-music-local-food-series-4/
LOCATION:Barnstormer Winery\, 4184 New York 14\, Rock Stream\, NY\, 14878\, United States
CATEGORIES:Free Events at Barnstormer
ATTACH;FMTTYPE=image/png:https://barnstormerwinery.com/wp-content/uploads/2024/04/Summer-Concert-Series-Flyer-Updated-3.png
END:VEVENT
BEGIN:VEVENT
DTSTART;TZID=America/New_York:20240628T130000
DTEND;TZID=America/New_York:20240628T143000
DTSTAMP:20260422T060701
CREATED:20240521T162023Z
LAST-MODIFIED:20240521T181741Z
UID:10000360-1719579600-1719585000@barnstormerwinery.com
SUMMARY:Winemaker Vineyard Tour & Tasting Summer Series Part 2
DESCRIPTION:Join us this summer for an in depth look at the 2024 grape growing season! Winemaker\, Taylor Stember\, will be leading six vineyard tours throughout the summer from June – August. These vineyard tours will fall on the second and fourth Friday of June\, July & August from 1pm – 230pm. Included will be an educational vineyard tour of the Barnstormer home farm (we will be pouring a couple wines during the vineyard tour portion)\, followed by an in depth wine tasting of five – six wines selected by Taylor and a farmed & foraged cheese and charcuterie board under our outdoor pavilion. Join us for multiple events to see the vineyard growth & progress throughout the summer season! \n$49/pp plus tax & ticket fees. (Wine Club Members will receive a complimentary red wine burgundy bowl Barnstormer logo’d wine glass to keep). \n12 tickets available per tour. 21+ only & no pets. Please arrive a few minutes early! These events will run rain or shine.
URL:https://barnstormerwinery.com/event/winemaker-vineyard-tour-tasting-summer-series-part-1-2/
LOCATION:Barnstormer Winery\, 4184 New York 14\, Rock Stream\, NY\, 14878\, United States
CATEGORIES:Ticketed Events at Barnstormer
ATTACH;FMTTYPE=image/jpeg:https://barnstormerwinery.com/wp-content/uploads/2024/05/QQQ_6189-scaled.jpg
END:VEVENT
END:VCALENDAR